BEGIN:VCALENDAR
VERSION:2.0
PRODID:-//ChamberMaster//Event Calendar 2.0//EN
METHOD:PUBLISH
X-PUBLISHED-TTL:P3D
REFRESH-INTERVAL:P3D
CALSCALE:GREGORIAN
BEGIN:VEVENT
DTSTART:20220813T233000Z
DTEND:20220815T020000Z
X-MICROSOFT-CDO-ALLDAYEVENT:FALSE
SUMMARY:William Lewis School Of Opera Presents: Die Fledermaus
DESCRIPTION:Founded in 1993\, the William Lewis School of Opera is a specialist in Opera Summer Programs whose mission is to discover\, educate and inspire promising vocal talent. The Texas Opera Summer Program culminates with two free performances (August 13 & 14) of J. Strauss's Die Fledermaus (The Bat) in English\, with an instrumental ensemble.
X-ALT-DESC;FMTTYPE=text/html:Founded in 1993\, the William Lewis School of Opera is a specialist in Opera Summer Programs whose mission is to discover\, educate and inspire promising vocal talent. The Texas Opera Summer Program culminates with two free performances (August 13 &amp\; 14) of J. Strauss&#39\;s Die Fledermaus (The Bat) in English\, with an instrumental ensemble.
LOCATION:Jerry Fay Wilhelm Performing Arts Center
UID:e.2762.8541
SEQUENCE:3
DTSTAMP:20260425T025737Z
URL:https://business.smithvilletx.org/events/details/william-lewis-school-of-opera-presents-die-fledermaus-08-13-2022-8541
END:VEVENT

END:VCALENDAR
