BEGIN:VCALENDAR
VERSION:2.0
PRODID:-//ChamberMaster//Event Calendar 2.0//EN
METHOD:PUBLISH
X-PUBLISHED-TTL:P3D
REFRESH-INTERVAL:P3D
CALSCALE:GREGORIAN
BEGIN:VEVENT
DTSTART:20170905T233000Z
DTEND:20170906T003000Z
X-MICROSOFT-CDO-ALLDAYEVENT:FALSE
SUMMARY:W. J. Nixon Masonic Lodge monthly meeting
DESCRIPTION:We always have a meal prior to our monthly business meeting held on the first Tuesday of each Month at 6:30 PM with our business meeting beginning at 7:30 PM. We in Masonry are always open for those that are interested in learning about Masonry\, so please contact me anytime or come by and visit.
X-ALT-DESC;FMTTYPE=text/html:We always have a meal prior to our monthly business meeting held on the first Tuesday of each Month at 6:30 PM with our business meeting beginning at 7:30 PM. We in Masonry are always open for those that are interested in learning about Masonry\, so please contact me anytime or come by and visit.
LOCATION:102 Wilkes Street
UID:e.2762.4410
SEQUENCE:3
DTSTAMP:20260424T034206Z
URL:https://business.smithvilletx.org/events/details/w-j-nixon-masonic-lodge-monthly-meeting-09-05-2017-4410
END:VEVENT

END:VCALENDAR
