BEGIN:VCALENDAR
VERSION:2.0
PRODID:-//ChamberMaster//Event Calendar 2.0//EN
METHOD:PUBLISH
X-PUBLISHED-TTL:P3D
REFRESH-INTERVAL:P3D
CALSCALE:GREGORIAN
BEGIN:VEVENT
DTSTART:20170909T160000Z
DTEND:20170909T190000Z
X-MICROSOFT-CDO-ALLDAYEVENT:FALSE
SUMMARY:The Honor Choir BBQ & Revue
DESCRIPTION:The Honor Choir BBQ & Revue sponsored by First National Bank \nCome and enjoy delicious brisket & sausage with all the fixin's while enjoying choir performances and a Talent Show.  To Go plates will also be available.\nThey will also be having a clothing drive so please bring any unwanted clothing to donate.
X-ALT-DESC;FMTTYPE=text/html:The Honor Choir BBQ & Revue sponsored by First National Bank \nCome and enjoy delicious brisket & sausage with all the fixin's while enjoying choir performances and a Talent Show.  To Go plates will also be available.\nThey will also be having a clothing drive so please bring any unwanted clothing to donate.
LOCATION:Bastrop Opera House 711 Spring Street Bastrop
UID:e.2762.4418
SEQUENCE:3
DTSTAMP:20260424T033920Z
URL:https://business.smithvilletx.org/events/details/the-honor-choir-bbq-revue-4418
END:VEVENT

END:VCALENDAR
