BEGIN:VCALENDAR
VERSION:2.0
PRODID:-//ChamberMaster//Event Calendar 2.0//EN
METHOD:PUBLISH
X-PUBLISHED-TTL:P3D
REFRESH-INTERVAL:P3D
CALSCALE:GREGORIAN
BEGIN:VEVENT
DTSTART:20170901T140000Z
DTEND:20170902T200000Z
X-MICROSOFT-CDO-ALLDAYEVENT:FALSE
SUMMARY:The Great Bastrop Opera House Renovation Sale Fundraiser
DESCRIPTION:The Historic Bastrop Opera House is bulging at the seams with props\, costumes\, furniture and imagination.\nWe are purging 30+ years of stuff to make room for new dreams and renovations. Take home a treasure and help us continue our History in our community.\nConcessions available.\n\nWe will also be accepting donations of any nice items you want to donate on Sunday\, August 27th from 1:00 - 5:00 pm and  Monday\, September 28th from 10 am - 2 pm.  Thank you for your support!
X-ALT-DESC;FMTTYPE=text/html:The Historic Bastrop Opera House is bulging at the seams with props\, costumes\, furniture and imagination.\nWe are purging 30+ years of stuff to make room for new dreams and renovations. Take home a treasure and help us continue our History in our community.\nConcessions available.\n\nWe will also be accepting donations of any nice items you want to donate on Sunday\, August 27th from 1:00 - 5:00 pm and  Monday\, September 28th from 10 am - 2 pm.  Thank you for your support!
LOCATION:Bastrop Opera House 711 Spring Street\, Bastrop
UID:e.2762.4419
SEQUENCE:3
DTSTAMP:20260424T034109Z
URL:https://business.smithvilletx.org/events/details/the-great-bastrop-opera-house-renovation-sale-fundraiser-4419
END:VEVENT

END:VCALENDAR
