BEGIN:VCALENDAR
VERSION:2.0
PRODID:-//ChamberMaster//Event Calendar 2.0//EN
METHOD:PUBLISH
X-PUBLISHED-TTL:P3D
REFRESH-INTERVAL:P3D
CALSCALE:GREGORIAN
BEGIN:VEVENT
DTSTART:20251025T003000Z
DTEND:20251025T011500Z
X-MICROSOFT-CDO-ALLDAYEVENT:FALSE
SUMMARY:Spooky Sip & Story: 7:30PM Tour
DESCRIPTION:Get Ready for a Hauntingly Good Time... \n\nJoin us for an eerie evening of chilling tales\, creepy cocktails and spine-tingling fun at our Spooky Sip & Stories event.  Whether you're a believer in the paranormal or just love a good scare\, this is the perfect way to welcome spooky season Smithville style.\n\n\n\nWhat to expect:\n\nBone chilling live ghost stories about Smithville's Historic Buildings & Residents by Karrie McKeown\, Local Storyteller!\n\nHaunted Ambiance & Decor\n\nCostumes Encouraged for Extra Spooky Fun!\n\n21+ Adults Only\n\n$40: Admission for One\, includes souvenir wine glass\, two wine pours and a hayride under the moonlight.  $20: Admission for One\, enjoy a hayride under the moonlight.  BYOB is forbidden.
X-ALT-DESC;FMTTYPE=text/html:Get Ready for a Hauntingly Good Time...&nbsp\;<br />\nJoin us for an eerie evening of chilling tales\, creepy cocktails and spine-tingling fun at our Spooky Sip &amp\; Stories event.&nbsp\; Whether you&#39\;re a believer in the paranormal or just love a good scare\, this is the perfect way to welcome spooky season Smithville style.<br />\n<br />\nWhat to expect:<br />\nBone chilling live ghost stories about Smithville&#39\;s Historic Buildings &amp\; Residents by Karrie McKeown\, Local Storyteller!<br />\nHaunted Ambiance &amp\; Decor<br />\nCostumes Encouraged for Extra Spooky Fun!<br />\n21+ Adults Only<br />\n$40: Admission for One\, includes souvenir wine glass\, two wine pours and a hayride under the moonlight.&nbsp\; $20: Admission for One\, enjoy a hayride under the moonlight.&nbsp\; BYOB is forbidden.
LOCATION:
UID:e.2762.10301
SEQUENCE:3
DTSTAMP:20260421T204029Z
URL:https://business.smithvilletx.org/events/details/spooky-sip-story-7-30pm-tour-10301
END:VEVENT

END:VCALENDAR
