BEGIN:VCALENDAR
VERSION:2.0
PRODID:-//ChamberMaster//Event Calendar 2.0//EN
METHOD:PUBLISH
X-PUBLISHED-TTL:P3D
REFRESH-INTERVAL:P3D
CALSCALE:GREGORIAN
BEGIN:VEVENT
DTSTART:20250417T230000Z
DTEND:20250418T010000Z
X-MICROSOFT-CDO-ALLDAYEVENT:FALSE
SUMMARY:Smithville Property Tax Workshop
DESCRIPTION:Join the City of Smithville for a FREE Property Tax Appraisal Workshop presented by Faun Cullens\, Chief Appraiser\, and Ellen Owens\, Bastrop County Tax Assessor/Collector. This workshop will cover the property appraisal process\, how tax bills are determined\, and provide an opportunity for community members to ask questions. Date: April 17\, 2025 | Time: 6:00 PM | Location: Smithville Recreation Center (106 Royston St\, Smithville\, TX). Refreshments provided!\n\n  Do you have questions about your property taxes? Want to better understand how appraisals and tax bills work? Join us for a FREE Property Tax Appraisal Workshop\, brought to you by the Smithville Community Engagement Department through the C.O.R.E. Program!\n\n \n\n  Date: April 17\, 2025\n\n  Location: Smithville Recreation Center (106 Royston St\, Smithville\, TX)\n\n  Time: 6:00 PM\n\n \n\nThis informative session will be led by Faun Cullens\, Chief Appraiser\, and Ellen Owens\, Bastrop County Tax Assessor/Collector\, who will break down the property appraisal process\, explain how tax bills are determined\, and answer any questions you may have.\n\n \n\nThis is a great opportunity to gain insight\, clarify concerns\, and learn directly from the experts. Whether you're a homeowner\, business owner\, or just curious about the process\, this workshop is for you!\n\n \n\nBonus: We will have refreshments available\, and the session will be recorded and photographed to help share this valuable information with the community.\n\n \n\n  Spread the word and bring a neighbor! Let's empower our community with knowledge. We look forward to seeing you there!
X-ALT-DESC;FMTTYPE=text/html:<div class="detailTitle" id="divDetailTitle" style="box-sizing: initial\; margin: 12px 350px 0px 0px\; padding: 0px\; border: 0px\; outline: 0px\; font-size: 15.2px\; font-family: Arial\; vertical-align: baseline\; position: relative\; z-index: 1\; color: rgb(51\, 51\, 51)\;">\n<div class="detailDateDesc" style="box-sizing: initial\; margin: 0px\; padding: 0px\; border: 0px\; outline: 0px\; font-weight: inherit\; font-style: inherit\; font-family: inherit\; vertical-align: baseline\; min-height: 55px\;">&nbsp\;</div>\n</div>\n\n<div class="fr-view" itemprop="description" style="box-sizing: initial\; overflow-wrap: break-word\; margin: 0px\; padding: 0px\; border: 0px\; outline: 0px\; font-size: 15.2px\; font-family: Arial\; vertical-align: baseline\; color: rgb(51\, 51\, 51)\; cursor: auto !important\;">\n<p id="isPasted" style="box-sizing: initial\; margin: 0px 0px 6px\; padding: 0px\; border: 0px\; outline: 0px\; font-weight: inherit\; font-style: inherit\; font-family: inherit\; vertical-align: baseline\;"><span style="color: rgb(51\, 51\, 51)\; font-family: Arial\; font-size: 15.2px\; background-color: rgb(255\, 255\, 255)\;">Join the City of Smithville&nbsp\;for a&nbsp\;</span><span style="color: rgb(51\, 51\, 51)\; font-family: Arial\; font-size: 15.2px\; background-color: rgb(255\, 255\, 255)\;">FREE&nbsp\;Property Tax Appraisal Workshop&nbsp\;presented by Faun Cullens\, Chief Appraiser\, and Ellen Owens\, Bastrop County Tax Assessor/Collector. This workshop will cover the property appraisal process\, how tax bills are determined\, and provide an opportunity for community members to ask questions. Date: April 17\, 2025 | Time: 6:00 PM | Location: Smithville Recreation Center (106 Royston St\, Smithville\, TX). Refreshments provided!</span><br />\n&#127969\; Do you have questions about your property taxes? Want to better understand how appraisals and tax bills work? Join us for a FREE Property Tax Appraisal Workshop\, brought to you by the Smithville Community Engagement Department through the C.O.R.E. Program!</p>\n\n<p style="box-sizing: initial\; margin: 0px 0px 6px\; padding: 0px\; border: 0px\; outline: 0px\; font-weight: inherit\; font-style: inherit\; font-family: inherit\; vertical-align: baseline\;">&nbsp\;</p>\n\n<p style="box-sizing: initial\; margin: 0px 0px 6px\; padding: 0px\; border: 0px\; outline: 0px\; font-weight: inherit\; font-style: inherit\; font-family: inherit\; vertical-align: baseline\;">&#128197\; Date: April 17\, 2025</p>\n\n<p style="box-sizing: initial\; margin: 0px 0px 6px\; padding: 0px\; border: 0px\; outline: 0px\; font-weight: inherit\; font-style: inherit\; font-family: inherit\; vertical-align: baseline\;">&#128205\; Location: Smithville Recreation Center (106 Royston St\, Smithville\, TX)</p>\n\n<p style="box-sizing: initial\; margin: 0px 0px 6px\; padding: 0px\; border: 0px\; outline: 0px\; font-weight: inherit\; font-style: inherit\; font-family: inherit\; vertical-align: baseline\;">&#9200\; Time: 6:00 PM</p>\n\n<p style="box-sizing: initial\; margin: 0px 0px 6px\; padding: 0px\; border: 0px\; outline: 0px\; font-weight: inherit\; font-style: inherit\; font-family: inherit\; vertical-align: baseline\;">&nbsp\;</p>\n\n<p style="box-sizing: initial\; margin: 0px 0px 6px\; padding: 0px\; border: 0px\; outline: 0px\; font-weight: inherit\; font-style: inherit\; font-family: inherit\; vertical-align: baseline\;">This informative session will be led by Faun Cullens\, Chief Appraiser\, and Ellen Owens\, Bastrop County Tax Assessor/Collector\, who will break down the property appraisal process\, explain how tax bills are determined\, and answer any questions you may have.</p>\n\n<p style="box-sizing: initial\; margin: 0px 0px 6px\; padding: 0px\; border: 0px\; outline: 0px\; font-weight: inherit\; font-style: inherit\; font-family: inherit\; vertical-align: baseline\;">&nbsp\;</p>\n\n<p style="box-sizing: initial\; margin: 0px 0px 6px\; padding: 0px\; border: 0px\; outline: 0px\; font-weight: inherit\; font-style: inherit\; font-family: inherit\; vertical-align: baseline\;">This is a great opportunity to gain insight\, clarify concerns\, and learn directly from the experts. Whether you&#39\;re a homeowner\, business owner\, or just curious about the process\, this workshop is for you!</p>\n\n<p style="box-sizing: initial\; margin: 0px 0px 6px\; padding: 0px\; border: 0px\; outline: 0px\; font-weight: inherit\; font-style: inherit\; font-family: inherit\; vertical-align: baseline\;">&nbsp\;</p>\n\n<p style="box-sizing: initial\; margin: 0px 0px 6px\; padding: 0px\; border: 0px\; outline: 0px\; font-weight: inherit\; font-style: inherit\; font-family: inherit\; vertical-align: baseline\;">Bonus: We will have refreshments available\, and the session will be recorded and photographed to help share this valuable information with the community.</p>\n\n<p style="box-sizing: initial\; margin: 0px 0px 6px\; padding: 0px\; border: 0px\; outline: 0px\; font-weight: inherit\; font-style: inherit\; font-family: inherit\; vertical-align: baseline\;">&nbsp\;</p>\n\n<p style="box-sizing: initial\; margin: 0px 0px 6px\; padding: 0px\; border: 0px\; outline: 0px\; font-weight: inherit\; font-style: inherit\; font-family: inherit\; vertical-align: baseline\;">&#128227\; Spread the word and bring a neighbor! Let&rsquo\;s empower our community with knowledge. We look forward to seeing you there!</p>\n</div>\n
LOCATION:106 Royston St\, Smithville\, TX 78957
UID:e.2762.9327
SEQUENCE:3
DTSTAMP:20260422T113502Z
URL:https://business.smithvilletx.org/events/details/smithville-property-tax-workshop-9327
END:VEVENT

END:VCALENDAR
