BEGIN:VCALENDAR
VERSION:2.0
PRODID:-//ChamberMaster//Event Calendar 2.0//EN
METHOD:PUBLISH
X-PUBLISHED-TTL:P3D
REFRESH-INTERVAL:P3D
CALSCALE:GREGORIAN
BEGIN:VEVENT
DTSTART;VALUE=DATE:20250424
DTEND;VALUE=DATE:20250427
TRANSP:TRANSPARENT
X-MICROSOFT-CDO-ALLDAYEVENT:TRUE
SUMMARY:Smithville Jamboree
DESCRIPTION:Join us for the Smithville Jamboree!!\n\nVisit:  SmithvilleJamboree.com\n\nBands this year:\n\nCarson Jeffrey. David Lewis. Moe Bandy and Joe Stampley. Nathan Colt Young. Keith Hickle. Brandi Behlen. Art Tigerina.\n\nCarnival. Parade. Stock Show and Sale. Coloring Contest. Washer Tournament. Horseshoe Tournament. Beard Contest. Food Vendors. Crowning of the Queen.\n\nSmithville Jamboree is April 24-26\, 2025. The Critter says "y'all come."\n\nGet your presale tickets now!\n\nNOTICE: TICKETS/WRISTBANDS ON THIS SITE ARE NOT FOR CARNIVAL ADMISSION. Carnival Wristbands must be purchased directly from the carnival onsite each day. The Carnival is OUTSIDE of Chuckwagon square and does not require a square admission or wristband to attend.\n\nALL PERSONS 12 and OVER MUST HAVE DAILY ADMISSION OR WRISTBAND FOR CHUCKWAGON SQUARE ADMISSION.
X-ALT-DESC;FMTTYPE=text/html:<div>\n<div>\n<div>\n<div>\n<p>Join us for the Smithville Jamboree!!<br />\nVisit:&nbsp\; SmithvilleJamboree.com<br />\nBands this year:<br />\nCarson Jeffrey. David Lewis. Moe Bandy and Joe Stampley. Nathan Colt Young. Keith Hickle. Brandi Behlen. Art Tigerina.</p>\n\n<p>Carnival. Parade. Stock Show and Sale. Coloring Contest. Washer Tournament. Horseshoe Tournament. Beard Contest. Food Vendors. Crowning of the Queen.</p>\n\n<p>Smithville Jamboree is April 24-26\, 2025. The Critter says &quot\;y&#39\;all come.&quot\;</p>\n\n<p>Get your presale tickets now!</p>\n\n<p><strong>NOTICE:</strong> TICKETS/WRISTBANDS ON THIS SITE ARE NOT FOR CARNIVAL ADMISSION. Carnival Wristbands must be purchased directly from the carnival onsite each day. The Carnival is OUTSIDE of Chuckwagon square and does not require a square admission or wristband to attend.</p>\n\n<p>ALL PERSONS 12 and OVER MUST HAVE DAILY ADMISSION OR WRISTBAND FOR CHUCKWAGON SQUARE ADMISSION.</p>\n</div>\n</div>\n</div>\n</div>\n
LOCATION:Location Vernon Richards Riverbend Park 107 Texas 71 Smithville\, TX 78957
UID:e.2762.9313
SEQUENCE:3
DTSTAMP:20260422T113503Z
URL:https://business.smithvilletx.org/events/details/smithville-jamboree-04-24-2025-9313
END:VEVENT

END:VCALENDAR
