BEGIN:VCALENDAR
VERSION:2.0
PRODID:-//ChamberMaster//Event Calendar 2.0//EN
METHOD:PUBLISH
X-PUBLISHED-TTL:P3D
REFRESH-INTERVAL:P3D
CALSCALE:GREGORIAN
BEGIN:VEVENT
DTSTART:20250213T233000Z
DTEND:20250214T003000Z
X-MICROSOFT-CDO-ALLDAYEVENT:FALSE
SUMMARY:Smithville Community Gardens Meeting
DESCRIPTION:The Smithville Community Gardens meet on the 2nd Thursday of each month. You are welcome to join us.
X-ALT-DESC;FMTTYPE=text/html:The Smithville&nbsp\;Community Gardens meet on the 2nd Thursday of each month. You are welcome to join us.&nbsp\;
LOCATION:Smithville Recreation Center 106 Gazley Smithville\, TX
UID:e.2762.3720
SEQUENCE:3
DTSTAMP:20260422T142400Z
URL:https://business.smithvilletx.org/events/details/smithville-community-gardens-meeting-02-13-2025-3720
END:VEVENT

END:VCALENDAR
