BEGIN:VCALENDAR
VERSION:2.0
PRODID:-//ChamberMaster//Event Calendar 2.0//EN
METHOD:PUBLISH
X-PUBLISHED-TTL:P3D
REFRESH-INTERVAL:P3D
CALSCALE:GREGORIAN
BEGIN:VEVENT
DTSTART:20221015T150000Z
DTEND:20221015T200000Z
X-MICROSOFT-CDO-ALLDAYEVENT:FALSE
SUMMARY:Smithville Birdfest
DESCRIPTION:APPRECIATION\, EDUCATION\, CONSERVATION & FLOCKS OF FUN! Join us for an artistically-inspired\, festival of fun\, celebrating Smithville\, the birds that call it home and the creative spirit of the people that live here. F E A T U R I N G : A BIRD PARADE\, BIRD COSTUMES & PRIZES\, LIVE RAPTOR SHOW\, BIRD ART SALE & SILENT AUCTION\, BIRD PHOTO CONTEST\, CUSTOM-BUILT BIRDHOUSES\, BIRD CRAFT ACTIVITIES & FLOCKS MORE FUN FOR ALL! Saturday\, October 15th 2022 10:00am-3:00pm S M I T H V I L L E \, T E X A S 7 8 9 5 7
X-ALT-DESC;FMTTYPE=text/html:APPRECIATION\, EDUCATION\, CONSERVATION &amp\; FLOCKS OF FUN! Join us for an artistically-inspired\, festival of fun\, celebrating Smithville\, the birds that call it home and the creative spirit of the people that live here. F E A T U R I N G : A BIRD PARADE\, BIRD COSTUMES &amp\; PRIZES\, LIVE RAPTOR SHOW\, BIRD ART SALE &amp\; SILENT AUCTION\, BIRD PHOTO CONTEST\, CUSTOM-BUILT BIRDHOUSES\, BIRD CRAFT ACTIVITIES &amp\; FLOCKS MORE FUN FOR ALL! Saturday\, October 15th 2022 10:00am-3:00pm S M I T H V I L L E \, T E X A S 7 8 9 5 7
LOCATION:Parade begins at the Smithville Library 507 Main Street Smithville\, and will process down Main Street to Railroad Park next to the Chamber at 100 NW 1st Street.
UID:e.2762.8560
SEQUENCE:3
DTSTAMP:20260425T041429Z
URL:https://business.smithvilletx.org/events/details/smithville-birdfest-10-15-2022-8560
END:VEVENT

END:VCALENDAR
