BEGIN:VCALENDAR
VERSION:2.0
PRODID:-//ChamberMaster//Event Calendar 2.0//EN
METHOD:PUBLISH
X-PUBLISHED-TTL:P3D
REFRESH-INTERVAL:P3D
CALSCALE:GREGORIAN
BEGIN:VEVENT
DTSTART:20231008T040000Z
DTEND:20231008T050000Z
X-MICROSOFT-CDO-ALLDAYEVENT:FALSE
SUMMARY:Rosanky Community Center Fall Fling Fundraiser
DESCRIPTION:Join us for an afternoon of good food\, activities for the kids\, and find that treasure you've been looking for at the live auction! Your support is much appreciated for the historic rural school building turned small family event venue - the best little venue in Rosanky!!!
X-ALT-DESC;FMTTYPE=text/html:Join us for an afternoon of good food\, activities for the kids\, and find that treasure you&#39\;ve been looking for at the live auction! Your support is much appreciated for the historic rural school building turned small family event venue - the best little venue in Rosanky!!!
LOCATION:Rosanky Community Center 135 Main St Rosanky\, Tx
UID:e.2762.8658
SEQUENCE:3
DTSTAMP:20260425T205814Z
URL:https://business.smithvilletx.org/events/details/rosanky-community-center-fall-fling-fundraiser-10-07-2023-8658
END:VEVENT

END:VCALENDAR
