BEGIN:VCALENDAR
VERSION:2.0
PRODID:-//ChamberMaster//Event Calendar 2.0//EN
METHOD:PUBLISH
X-PUBLISHED-TTL:P3D
REFRESH-INTERVAL:P3D
CALSCALE:GREGORIAN
BEGIN:VEVENT
DTSTART:20250624T230000Z
DTEND:20250625T001500Z
X-MICROSOFT-CDO-ALLDAYEVENT:FALSE
SUMMARY:Ribbon Cutting at Mount Pilgrim Baptist Church
DESCRIPTION:A Ribbon Cutting to celebrate the Historical Marker being placed at Mount Pilgrim Baptist Church as part of the South Side Pride initiative.
X-ALT-DESC;FMTTYPE=text/html:A Ribbon Cutting to celebrate the Historical Marker being placed at Mount Pilgrim Baptist Church as part of the South Side Pride initiative.&nbsp\;
LOCATION:
UID:e.2762.9373
SEQUENCE:3
DTSTAMP:20260422T024029Z
URL:https://business.smithvilletx.org/events/details/ribbon-cutting-at-mount-pilgrim-baptist-church-9373
END:VEVENT

END:VCALENDAR
