BEGIN:VCALENDAR
VERSION:2.0
PRODID:-//ChamberMaster//Event Calendar 2.0//EN
METHOD:PUBLISH
X-PUBLISHED-TTL:P3D
REFRESH-INTERVAL:P3D
CALSCALE:GREGORIAN
BEGIN:VEVENT
DTSTART:20260123T160000Z
DTEND:20260123T230000Z
X-MICROSOFT-CDO-ALLDAYEVENT:FALSE
SUMMARY:Revolutionary Wall
DESCRIPTION:To kick off the 250th anniversary of the United States\, the Bastrop County Museum & Visitor Center is launching a community "Revolutionary Wall." Throughout January\, residents are invited to add the name or description of a person\, event\, or place in Bastrop County history that they believe was revolutionary. The wall will remain on display all month\, and everyone is encouraged to take part in this community celebration of local history. For inspiration\, there will be an exhibit of Sanborn Maps which are historic maps that document the expansion of Bastrop County through the years 1885 to 1934!\n\nAdditional programs and exhibits throughout the year will explore how the ideals of the American Revolution liberty\, resilience\, and civic engagement are reflected in our local history.
X-ALT-DESC;FMTTYPE=text/html:<p><span style="background-color:transparent\; color:rgb(0\, 0\, 0)\; font-family:average\,serif\; font-size:11pt">To kick off the 250th anniversary of the United States\, the Bastrop County Museum &amp\; Visitor Center is launching a community &ldquo\;Revolutionary Wall.&rdquo\; Throughout January\, residents are invited to add the name or description of a person\, event\, or place in Bastrop County history that they believe was revolutionary. The wall will remain on display all month\, and everyone is encouraged to take part in this community celebration of local history. For inspiration\, there will be an exhibit of Sanborn Maps which are historic maps that document the expansion of Bastrop County through the years 1885 to 1934!</span></p>\n\n<p><span style="color:rgb(34\, 34\, 34)\; font-family:average\,serif\; font-size:11pt">Additional programs and exhibits throughout the year will explore how the ideals of the American Revolution&mdash\;liberty\, resilience\, and civic engagement&mdash\;are reflected in our local history.</span></p>\n
LOCATION:904 Main Street\, Bastrop\, TX 78602
UID:e.2762.11735
SEQUENCE:3
DTSTAMP:20260421T092706Z
URL:https://business.smithvilletx.org/events/details/revolutionary-wall-01-23-2026-11735
END:VEVENT

END:VCALENDAR
