BEGIN:VCALENDAR
VERSION:2.0
PRODID:-//ChamberMaster//Event Calendar 2.0//EN
METHOD:PUBLISH
X-PUBLISHED-TTL:P3D
REFRESH-INTERVAL:P3D
CALSCALE:GREGORIAN
BEGIN:VEVENT
DTSTART:20231025T161500Z
DTEND:20231025T180000Z
X-MICROSOFT-CDO-ALLDAYEVENT:FALSE
SUMMARY:Quarterly Luncheon
DESCRIPTION:Quarterly Luncheon:  Join us for our quarterly luncheon on October 25th\, 11:15am-1pm in the Fellowship Hall at First United Methodist Church\, 400 Olive in Smithville.  Our presentation will  by the staff of The Children's Advocacy Center\, Serving Bastrop\, Lee and Fayette Counties.  A catered lunch is included in the cost of your $20 ticket. Purchase online at www.smithvilletx.org or call 512-237-2313.  Thank you to Roscoe Bank - Cornerstone Home Lending for being Title Sponsor of this event. \n\n\n\nCatering provided by Pines Events & Media (Grilled chicken thighs with signature dijon mushroom cream sauce or pork loin slow smoked with raspberry chipotle BBQ sauce\, German style Smashed potatoes\, Roadhouse green beans\, garden salad with your choice of dressing\, garlic rolls and for dessert\, M-K-T Railroad Peach Cobbler served warm with a scoop of Blue Bell vanilla ice cream.)
X-ALT-DESC;FMTTYPE=text/html:<p style="margin: 0px\; text-align: justify\;"><span style="margin: 0px\;"><strong style="font-family: Arial\, sans-serif\; font-size: 11pt\;">Quarterly&nbsp\;Luncheon:</strong><span style="font-family: Arial\, sans-serif\; font-size: 11pt\; margin: 0px\;">&nbsp\; </span><font face="Arial\, sans-serif"><span style="font-size: 11pt\;">Join us for our quarterly luncheon on October&nbsp\;25th\, 11:15am-1pm in the Fellowship Hall at First United Methodist Church\, 400 Olive in Smithville.</span></font><span style="font-family: Arial\, sans-serif\; font-size: 11pt\; margin: 0px\;">&nbsp\;<strong> </strong></span><strong><font face="Arial\, sans-serif"><span style="font-size: 11pt\;">Our presentation&nbsp\;will &nbsp\;by the staff of The Children&#39\;s Advocacy Center\, Serving Bastrop\, Lee and Fayette&nbsp\;</span><span style="font-size: 14.666666984558105px\;">Counties</span><span style="font-size: 11pt\;">. </span></font></strong><span style="font-family: Arial\, sans-serif\; font-size: 11pt\; margin: 0px\;">&nbsp\;A catered lunch is included in the cost of&nbsp\;your&nbsp\;</span><font face="Arial\, sans-serif"><span style="font-size: 11pt\;">$20&nbsp\;ticket. Purchase&nbsp\;</span></font><font face="Arial\, sans-serif"><span style="font-size: 11pt\;">online at </span></font><a href="http://www.smithvilletx.org/" style="font-family: Arial\, sans-serif\; font-size: 11pt\;"><font color="#0563c1">www.smithvilletx.org</font></a><font face="Arial\, sans-serif"><span style="font-size: 11pt\;"> or call 512-237-2313. &nbsp\;Thank you to Roscoe Bank - Cornerstone Home Lending for being Title Sponsor of this event.&nbsp\;</span></font></span><br />\n<br />\nCatering provided by Pines Events &amp\; Media (Grilled chicken thighs with signature dijon mushroom cream sauce or pork loin slow smoked with raspberry chipotle BBQ sauce\, German style Smashed potatoes\, Roadhouse green beans\, garden salad with your choice of dressing\, garlic rolls and for dessert\, M-K-T Railroad Peach Cobbler served warm with a scoop of Blue Bell vanilla ice cream.)</p>\n
LOCATION:First United Methodist Church Fellowship Hall 400 Olive Street\, Smithville\, TX
UID:e.2762.8648
SEQUENCE:3
DTSTAMP:20260423T054558Z
URL:https://business.smithvilletx.org/events/details/quarterly-luncheon-8648
END:VEVENT

END:VCALENDAR
