BEGIN:VCALENDAR
VERSION:2.0
PRODID:-//ChamberMaster//Event Calendar 2.0//EN
METHOD:PUBLISH
X-PUBLISHED-TTL:P3D
REFRESH-INTERVAL:P3D
CALSCALE:GREGORIAN
BEGIN:VEVENT
DTSTART:20240131T171500Z
DTEND:20240131T190000Z
X-MICROSOFT-CDO-ALLDAYEVENT:FALSE
SUMMARY:Quarterly Chamber Luncheon 2024
DESCRIPTION:Please join us for our first Chamber Luncheon of 2024.  The keynote speaker is State Representative Stan Gerdes\, House District 17\, representing Bastrop\, Burleson\, Caldwell\, Lee\, and Milam Counties.   Tickets are $25 and include a catered lunch.  Doors open at 11:15AM for networking and socializing.  The lunch program will begin at 12Noon and end promptly at 1PM.  Door prizes and announcements will conclude our time together.  \n\n\n\nPlease make plans to join us for this important and informative time.
X-ALT-DESC;FMTTYPE=text/html:<span style="font-size:14px\;"><span style="font-family:arial\;">Please join us for our first Chamber Luncheon of 2024. &nbsp\;T<span style="caret-color: rgb(33\, 33\, 33)\; color: rgb(33\, 33\, 33)\;">he keynote speaker is State Representative Stan Gerdes\, House District 17\, representing Bastrop\, Burleson\, Caldwell\, Lee\, and Milam Counties</span>. &nbsp\; Tickets are $25 and include a catered lunch. &nbsp\;Doors open at 11:15AM for networking and socializing. &nbsp\;The lunch program will begin at 12Noon and end promptly at 1PM. &nbsp\;Door prizes and announcements will conclude our time together. &nbsp\;<br />\n<br />\nPlease make plans to join us for this important and informative time.</span></span>
LOCATION:Dr. George M. Jones VFW Post 1309 557 N.W. Loop 230 Smithville\, Texas
UID:e.2762.8691
SEQUENCE:3
DTSTAMP:20260423T045346Z
URL:https://business.smithvilletx.org/events/details/quarterly-chamber-luncheon-2024-8691
END:VEVENT

END:VCALENDAR
