BEGIN:VCALENDAR
VERSION:2.0
PRODID:-//ChamberMaster//Event Calendar 2.0//EN
METHOD:PUBLISH
X-PUBLISHED-TTL:P3D
REFRESH-INTERVAL:P3D
CALSCALE:GREGORIAN
BEGIN:VEVENT
DTSTART:20170927T163000Z
DTEND:20170927T180000Z
X-MICROSOFT-CDO-ALLDAYEVENT:FALSE
SUMMARY:Pre-Walk Check In for Alzheimer's Texas Walk
DESCRIPTION:Come have an Amy's Ice Cream on us while checking in your walkers\, turning in money\, and picking up shirts.
X-ALT-DESC;FMTTYPE=text/html:Come have an Amy&#39\;s Ice Cream on us while checking in your walkers\, turning in money\, and picking up shirts.
LOCATION:Amy's Ice Cream\, 109 NE 2nd St\, Smithville\, TX 78957
UID:e.2762.4427
SEQUENCE:3
DTSTAMP:20260421T215133Z
URL:https://business.smithvilletx.org/events/details/pre-walk-check-in-for-alzheimer-s-texas-walk-4427
END:VEVENT

END:VCALENDAR
