BEGIN:VCALENDAR
VERSION:2.0
PRODID:-//ChamberMaster//Event Calendar 2.0//EN
METHOD:PUBLISH
X-PUBLISHED-TTL:P3D
REFRESH-INTERVAL:P3D
CALSCALE:GREGORIAN
BEGIN:VEVENT
DTSTART:20250506T230000Z
DTEND:20250506T230000Z
X-MICROSOFT-CDO-ALLDAYEVENT:FALSE
SUMMARY:Planning and Zoning Meeting
DESCRIPTION:
X-ALT-DESC;FMTTYPE=text/html:
LOCATION:317 Main Street Smithville\, TX 78957
UID:e.2762.9329
SEQUENCE:3
DTSTAMP:20260422T063024Z
URL:https://business.smithvilletx.org/events/details/planning-and-zoning-meeting-9329
END:VEVENT

END:VCALENDAR
