BEGIN:VCALENDAR
VERSION:2.0
PRODID:-//ChamberMaster//Event Calendar 2.0//EN
METHOD:PUBLISH
X-PUBLISHED-TTL:P3D
REFRESH-INTERVAL:P3D
CALSCALE:GREGORIAN
BEGIN:VEVENT
DTSTART:20250426T190000Z
DTEND:20250426T220000Z
X-MICROSOFT-CDO-ALLDAYEVENT:FALSE
SUMMARY:Painting Classes for Teens and Adults
DESCRIPTION:Robin Lively will teach an introduction to painting - the basics\, including becoming familiar with various types of paint\, painting surfaces\, brushes and other tools used for painting.  Mixing paint and an introduction to color theory.\n\n\n\nTaught by Robin Lively\, we will on topics introduced in Fundamentals of Painting I\, and for those who have some familiarity with painting. In this session\, we will continue to study color theory and composition.  We will explore brushwork and techniques. \n\n\n\nTo register visit\, www.lostpinesartisansalliance.org
X-ALT-DESC;FMTTYPE=text/html:Robin Lively will teach an introduction to painting - the basics\, including becoming familiar with various types of paint\, painting surfaces\, brushes and other tools used for painting.&nbsp\; Mixing paint and an introduction to color theory.<br />\n<br />\nTaught by Robin Lively\, we will on topics introduced in Fundamentals of Painting I\, and for those who have some familiarity with painting. In this session\, we will continue to study color theory and composition.&nbsp\; We will explore brushwork and techniques.&nbsp\;<br />\n<br />\nTo register visit\, www.lostpinesartisansalliance.org
LOCATION:Mary A. Nichols Art Center 301 Burleson\, at Loop 230 Smithville\, Texas 78957
UID:e.2762.9336
SEQUENCE:3
DTSTAMP:20260422T113454Z
URL:https://business.smithvilletx.org/events/details/painting-classes-for-teens-and-adults-9336
END:VEVENT

END:VCALENDAR
