BEGIN:VCALENDAR
VERSION:2.0
PRODID:-//ChamberMaster//Event Calendar 2.0//EN
METHOD:PUBLISH
X-PUBLISHED-TTL:P3D
REFRESH-INTERVAL:P3D
CALSCALE:GREGORIAN
BEGIN:VEVENT
DTSTART:20251022T161500Z
DTEND:20251022T180000Z
X-MICROSOFT-CDO-ALLDAYEVENT:FALSE
SUMMARY:October Quarterly Chamber Luncheon 2025
DESCRIPTION:Join us for the last Quarterly Chamber Luncheon of the year! These luncheons focus on education\, advocacy\, and governmental affairs\, providing valuable insights and networking opportunities for business and community leaders.\n\n\n\nOur speaker is Tina Butler\, sister to Alton Butler of Bastrop 552 Film Studio\, along with Adena Lewis\, Director of Tourism and Economic Development with Bastrop County Government.  The two will be sharing exciting insights regarding the Film Industry in Bastrop County. \n\nDoors open at 11:15 AM for networking before lunch is served at 12:00 PM. \n\nTo assist with catering logistics\, we strongly encourage advance registration and payment. Tickets are $25 in advance. Day-of registrations are $30 and cannot be guaranteed.\n\nReserve your seat and be part of the conversation shaping our community!\n\n\n\n  Date: Wednesday\, October 22nd\, 2025\n\n  Time: Doors open at 11:15 AM | Buffet at 12:00 PM | Event ends at 1:00 PM\n\n  Location: Dr. George M. Jones VFW Post #1309\, Smithville\n\n  Guest Speakers: Tina Butler and Adena Lewis\n\nTina Butler will provide an update on Line 204 Studio and Production Complex.\n\nAdena Lewis will share insights on the film industry and its impact on economic development in Bastrop County\n\n  Tickets: $25 (includes a catered lunch) | $30 for day-of registration (subject to availability)\n\n  Tickets Available: September 25th\, 2025
X-ALT-DESC;FMTTYPE=text/html:<p data-end="661" data-start="405">Join us for the last<strong data-end="490" data-start="447">&nbsp\;Quarterly Chamber Luncheon of the year!&nbsp\;</strong>These luncheons focus on <strong data-end="565" data-start="516">education\, advocacy\, and governmental affairs</strong>\, providing valuable insights and networking opportunities for business and community leaders.<br />\n<br />\nOur speaker is Tina Butler\, sister to Alton Butler of Bastrop 552 Film Studio\, along with Adena Lewis\, Director of Tourism and Economic Development with Bastrop County Government.&nbsp\; The two will be sharing exciting insights regarding the Film Industry in Bastrop County.&nbsp\;</p>\n\n<p data-end="848" data-start="663">Doors open at <strong data-end="689" data-start="677">11:15 AM</strong> for networking before lunch is served at <strong data-end="743" data-start="731">12:00 PM</strong>.&nbsp\;</p>\n\n<p data-end="1086" data-start="850">To assist with catering logistics\, we <strong data-end="944" data-start="888">strongly encourage advance registration and payment.</strong> Tickets are <strong data-end="964" data-start="957">$25</strong> in advance. <strong data-end="1084" data-start="1026">Day-of registrations are $30 and cannot be guaranteed.</strong></p>\n\n<p data-end="1160" data-is-last-node="" data-is-only-node="" data-start="1088">Reserve your seat and be part of the conversation shaping our community!<br />\n<br />\n&#128197\; <strong data-end="74" data-start="65">Date:</strong> Wednesday\, October 22nd\, 2025<br data-end="103" data-start="100" />\n&#128358\; <strong data-end="115" data-start="106">Time:</strong> Doors open at 11:15 AM | Buffet at 12:00 PM | Event ends at 1:00 PM<br data-end="186" data-start="183" />\n&#128205\; <strong data-end="202" data-start="189">Location:</strong> Dr. George M. Jones VFW Post #1309\, Smithville<br data-end="217" data-start="214" />\n&#127908\; <strong data-end="238" data-start="220">Guest Speakers:</strong><span style="font-size:12px\;"><span style="font-family:arial\;">&nbsp\;Tina Butler and Adena Lewis</span></span></p>\n\n<p data-end="1160" data-is-last-node="" data-is-only-node="" data-start="1088" style="margin-left: 40px\;"><span style="font-size:14px\;">Tina Butler will&nbsp\;<span style="color: rgb(34\, 34\, 34)\; background-color: rgb(255\, 255\, 255)\;">provide an update on Line 204 Studio and Production Complex.<br />\nAdena Lewis&nbsp\;will share insights on the film industry and its impact on economic development in Bastrop County</span></span></p>\n\n<p data-end="1160" data-is-last-node="" data-is-only-node="" data-start="1088"><span style="font-size:12px\;"><span style="font-family:arial\;">&#127903\; <strong data-end="272" data-start="260">Tickets:</strong> $25 (inclu</span></span>des a catered lunch) | $30 for day-of registration (subject to availability)<br data-end="362" data-start="359" />\n&#127903\; <strong data-end="387" data-start="365">Tickets Available:</strong>&nbsp\;September 25th\, 2025<br />\n&nbsp\;</p>\n
LOCATION:Dr. George M. Jones VFW Post #1309 557 N W Loop 230 Smithville\, TX 78957
UID:e.2762.10295
SEQUENCE:3
DTSTAMP:20260421T203851Z
URL:https://business.smithvilletx.org/events/details/october-quarterly-chamber-luncheon-2025-10295
END:VEVENT

END:VCALENDAR
