BEGIN:VCALENDAR
VERSION:2.0
PRODID:-//ChamberMaster//Event Calendar 2.0//EN
METHOD:PUBLISH
X-PUBLISHED-TTL:P3D
REFRESH-INTERVAL:P3D
CALSCALE:GREGORIAN
BEGIN:VEVENT
DTSTART:20250808T210000Z
DTEND:20250808T230000Z
X-MICROSOFT-CDO-ALLDAYEVENT:FALSE
SUMMARY:Mutt's Last Stand Grand Ribbon Cutting
DESCRIPTION:
X-ALT-DESC;FMTTYPE=text/html:
LOCATION:205 NE Loop 230\, Smithville\, TX
UID:e.2762.9770
SEQUENCE:3
DTSTAMP:20260421T232644Z
URL:https://business.smithvilletx.org/events/details/mutt-s-last-stand-grand-ribbon-cutting-9770
END:VEVENT

END:VCALENDAR
