BEGIN:VCALENDAR
VERSION:2.0
PRODID:-//ChamberMaster//Event Calendar 2.0//EN
METHOD:PUBLISH
X-PUBLISHED-TTL:P3D
REFRESH-INTERVAL:P3D
CALSCALE:GREGORIAN
BEGIN:VEVENT
DTSTART:20250515T230000Z
DTEND:20250516T010000Z
X-MICROSOFT-CDO-ALLDAYEVENT:FALSE
SUMMARY:Music in the Park
DESCRIPTION:Join us downtown for one of our town's favorite traditions Music in the Park\, every Thursday in May from 6:00 8:00 PM at the Gazebo at the end of Main Street.\n\n\n\nSince 2018\, we've been bringing the community together for evenings filled with great local music\, friendly faces\, and small-town charm. \n\n\n\n2025 Lineup:\n\nMay 1   Just Hanna\n\nMay 8   Johnny Rocket\n\nMay 15   Big Iron\n\nMay 22   Sledge and Haney\n\nMay 29   Bucksnort Boogie Boys\n\n\n\nBring your blanket\, chairs\, and a cooler or swing by one of our amazing downtown restaurants and enjoy dinner with the music. It's the perfect way to spend time with family\, friends\, and neighbors. \n\n\n\nWhere: Downtown Smithville\, TX   Main Street Gazebo\n\nWhen: Thursdays in May | 6:00 8:00 PM\n\nCost: FREE!
X-ALT-DESC;FMTTYPE=text/html:Join us downtown for one of our town&rsquo\;s favorite traditions&mdash\;Music in the Park\, every Thursday in May from 6:00&ndash\;8:00 PM at the Gazebo at the end of Main Street.<br />\n<br />\nSince 2018\, we&#39\;ve been bringing the community together for evenings filled with great local music\, friendly faces\, and small-town charm.&nbsp\;<br />\n<br />\n<strong>2025 Lineup:</strong><br />\nMay 1 &ndash\; Just Hanna<br />\nMay 8 &ndash\; Johnny Rocket<br />\nMay 15 &ndash\; Big Iron<br />\nMay 22 &ndash\; Sledge and Haney<br />\nMay 29 &ndash\; Bucksnort Boogie Boys<br />\n<br />\nBring your blanket\, chairs\, and a cooler&mdash\;or swing by one of our amazing downtown restaurants and enjoy dinner with the music. It&rsquo\;s the perfect way to spend time with family\, friends\, and neighbors.&nbsp\;<br />\n<br />\nWhere: Downtown Smithville\, TX &ndash\; Main Street Gazebo<br />\nWhen: Thursdays in May | 6:00&ndash\;8:00 PM<br />\nCost: FREE!
LOCATION:Gazebo at the End of Main Street
UID:e.2762.9341
SEQUENCE:3
DTSTAMP:20260422T062618Z
URL:https://business.smithvilletx.org/events/details/music-in-the-park-05-15-2025-9341
END:VEVENT

END:VCALENDAR
