BEGIN:VCALENDAR
VERSION:2.0
PRODID:-//ChamberMaster//Event Calendar 2.0//EN
METHOD:PUBLISH
X-PUBLISHED-TTL:P3D
REFRESH-INTERVAL:P3D
CALSCALE:GREGORIAN
BEGIN:VEVENT
DTSTART:20031022T123000Z
DTEND:20031022T140000Z
X-MICROSOFT-CDO-ALLDAYEVENT:FALSE
SUMMARY:Muffin Mixer
DESCRIPTION:Quarterly Muffin Mixer
X-ALT-DESC;FMTTYPE=text/html:Quarterly Muffin Mixer
LOCATION:Kay's Cafe\, 1289 E Hwy 71\, Bastrop
UID:e.2762.536
SEQUENCE:3
DTSTAMP:20260424T211618Z
URL:https://business.smithvilletx.org/events/details/muffin-mixer-10-22-2003-536
END:VEVENT

END:VCALENDAR
