BEGIN:VCALENDAR
VERSION:2.0
PRODID:-//ChamberMaster//Event Calendar 2.0//EN
METHOD:PUBLISH
X-PUBLISHED-TTL:P3D
REFRESH-INTERVAL:P3D
CALSCALE:GREGORIAN
BEGIN:VEVENT
DTSTART:20201025T003000Z
DTEND:20201025T030000Z
X-MICROSOFT-CDO-ALLDAYEVENT:FALSE
SUMMARY:Movie & Music in the Park
DESCRIPTION:The Smithville Area Chamber of Commerce is excited to host Movies & Music in the Park. This event is sponsored by Farmers Insurance\, Scott Saunders\, agent.\n\n\n\nAt 7:00 the evening will begin with live music until dark.  At dark Hocus Pocus will be shown on a large screen. \n\n\n\nWe encourage you to pick up dinner at a local restaurant or concessions are available at the park. Social distancing is required. \n\n\n\nLive music by FREE LOCAL HONEY.
X-ALT-DESC;FMTTYPE=text/html:The Smithville Area Chamber of Commerce is excited to host Movies &amp\; Music in the Park. This event is sponsored by Farmers Insurance\, Scott Saunders\, agent.<br />\n<br />\nAt 7:00 the evening will begin with live music until dark.&nbsp\; At dark Hocus Pocus will be shown on a large screen.&nbsp\;<br />\n<br />\nWe encourage you to pick up dinner at a local restaurant or concessions are available at the park. Social distancing is required.&nbsp\;<br />\n<br />\nLive music by <u><strong><a href="https://www.facebook.com/freelocalhoney">FREE LOCAL HONEY</a></strong></u>.
LOCATION:Riverbend Park
UID:e.2762.6369
SEQUENCE:3
DTSTAMP:20260422T054651Z
URL:https://business.smithvilletx.org/events/details/movie-music-in-the-park-6369
END:VEVENT

END:VCALENDAR
