BEGIN:VCALENDAR
VERSION:2.0
PRODID:-//ChamberMaster//Event Calendar 2.0//EN
METHOD:PUBLISH
X-PUBLISHED-TTL:P3D
REFRESH-INTERVAL:P3D
CALSCALE:GREGORIAN
BEGIN:VEVENT
DTSTART:20250516T233000Z
DTEND:20250517T013000Z
X-MICROSOFT-CDO-ALLDAYEVENT:FALSE
SUMMARY:LPAA Sip & Paint
DESCRIPTION:"Save the Bee!" Painting on May 16th\, 6:30pm-8:30pm\n\n\n\nInstructor: Brandy Royster\n\nCreate an painting featuring bees bussing around a mason jar full of fresh-cut flowers.  Example in the image.\n\n\n\nBYOB\n\n\n\nArt supplies\, snacks and instructions provided. \n\n\n\nTo register\, visit: www.lostpinesartisansalliance.org
X-ALT-DESC;FMTTYPE=text/html:&quot\;Save the Bee!&quot\; Painting on May 16th\, 6:30pm-8:30pm<br />\n<br />\nInstructor: Brandy Royster<br />\nCreate an painting featuring bees bussing around a mason jar full of fresh-cut flowers.&nbsp\; Example in the image.<br />\n<br />\nBYOB<br />\n<br />\nArt supplies\, snacks and instructions provided.&nbsp\;<br />\n<br />\nTo register\, visit: www.lostpinesartisansalliance.org
LOCATION:Mary A. Nichols Art Center 301 Burleson at Loop 230 Smithville\, Texas 78957
UID:e.2762.9334
SEQUENCE:3
DTSTAMP:20260422T062322Z
URL:https://business.smithvilletx.org/events/details/lpaa-sip-paint-9334
END:VEVENT

END:VCALENDAR
