BEGIN:VCALENDAR
VERSION:2.0
PRODID:-//ChamberMaster//Event Calendar 2.0//EN
METHOD:PUBLISH
X-PUBLISHED-TTL:P3D
REFRESH-INTERVAL:P3D
CALSCALE:GREGORIAN
BEGIN:VEVENT
DTSTART:20170816T210000Z
DTEND:20170816T233000Z
X-MICROSOFT-CDO-ALLDAYEVENT:FALSE
SUMMARY:Lone Star Circle of Care Bastrop Health Center Open House
DESCRIPTION:Come join us for some BBQ and meet our team at the Bastrop Health Center Open House! You do not have to be a patient to attend. Bring a friend\, neighbor or the family. Event will be inside the clinic. See you there! #NationalHealthCenterWeek
X-ALT-DESC;FMTTYPE=text/html:Come join us for some BBQ and meet our team at the Bastrop Health Center Open House! You do not have to be a patient to attend. Bring a friend\, neighbor or the family. Event will be inside the clinic. See you there! #NationalHealthCenterWeek
LOCATION:605 Old Austin Hwy\, Bastrop\, TX 78602
UID:e.2762.4416
SEQUENCE:3
DTSTAMP:20260421T203059Z
URL:https://business.smithvilletx.org/events/details/lone-star-circle-of-care-bastrop-health-center-open-house-4416
END:VEVENT

END:VCALENDAR
