BEGIN:VCALENDAR
VERSION:2.0
PRODID:-//ChamberMaster//Event Calendar 2.0//EN
METHOD:PUBLISH
X-PUBLISHED-TTL:P3D
REFRESH-INTERVAL:P3D
CALSCALE:GREGORIAN
BEGIN:VEVENT
DTSTART:20250503T230000Z
DTEND:20250504T020000Z
X-MICROSOFT-CDO-ALLDAYEVENT:FALSE
SUMMARY:Kids Outdoor Zone 16th Annual Gala
DESCRIPTION:The Kids Outdoor Zone Gala is a special event dedicated to supporting KOZ and the Mission. KOZ is a non-profit organization that aims to provide Godly male mentorship and outdoor experiences for fatherless boys.
X-ALT-DESC;FMTTYPE=text/html:<span style="font-family: Oswald\; font-size: 18px\; text-align: center\; background-color: rgb(250\, 250\, 242)\;">The Kids Outdoor Zone Gala is a special event dedicated to supporting KOZ and the Mission. KOZ is a non-profit organization that aims to provide Godly male mentorship and outdoor experiences for fatherless boys.</span>
LOCATION:Hyatt Regency Lost Pines Resort & Spa - 575 Hyatt Lost Pines Rd\, Cedar Creek\, TX 78612
UID:e.2762.9143
SEQUENCE:3
DTSTAMP:20260422T075150Z
URL:https://business.smithvilletx.org/events/details/kids-outdoor-zone-16th-annual-gala-9143
END:VEVENT

END:VCALENDAR
