BEGIN:VCALENDAR
VERSION:2.0
PRODID:-//ChamberMaster//Event Calendar 2.0//EN
METHOD:PUBLISH
X-PUBLISHED-TTL:P3D
REFRESH-INTERVAL:P3D
CALSCALE:GREGORIAN
BEGIN:VEVENT
DTSTART:20250501T210000Z
DTEND:20250501T220000Z
X-MICROSOFT-CDO-ALLDAYEVENT:FALSE
SUMMARY:Kids Clay Class - LPAA
DESCRIPTION:Thursdays After School\n\n\n\nKids Clay Class\n\n\n\nLearn and Play with Clay: This fun class will teach kids the art of hand building techniques and varies glazing strategies.  This is an ongoing weekly class that will open new art medium for kids to explore.\n\n\n\nRegister at www.lostpinesartisansalliance.org
X-ALT-DESC;FMTTYPE=text/html:Thursdays After School<br />\n<br />\nKids Clay Class<br />\n<br />\nLearn and Play with Clay: This fun class will teach kids the art of hand building techniques and varies glazing strategies.&nbsp\; This is an ongoing weekly class that will open new art medium for kids to explore.<br />\n<br />\nRegister at www.lostpinesartisansalliance.org
LOCATION:Mary A. Nichols Art Center 301 Burleson\, at Loop 230 Smithville\, Texas 78957
UID:e.2762.9335
SEQUENCE:3
DTSTAMP:20260422T062332Z
URL:https://business.smithvilletx.org/events/details/kids-clay-class-lpaa-9335
END:VEVENT

END:VCALENDAR
