BEGIN:VCALENDAR
VERSION:2.0
PRODID:-//ChamberMaster//Event Calendar 2.0//EN
METHOD:PUBLISH
X-PUBLISHED-TTL:P3D
REFRESH-INTERVAL:P3D
CALSCALE:GREGORIAN
BEGIN:VEVENT
DTSTART:20250717T220000Z
DTEND:20250718T000000Z
X-MICROSOFT-CDO-ALLDAYEVENT:FALSE
SUMMARY:July Chamber Mixer
DESCRIPTION:Join Us for the July Mixer with the Consuela!\n\nWe're excited to invite the Smithville community to our July Mixer! Come connect\, network\, and enjoy great company in a relaxed\, welcoming atmosphere. It's the perfect opportunity to meet new people\, share ideas\, and learn more about what's happening in our town.\n\nWe're thrilled to announce that Consuela's will be donating 20% of all purchases made during the mixer to We Support Smithville ISD! This incredible support helps us award scholarships and host the annual Banquet honoring the Top 10% of the Senior Graduating class. Come enjoy great food and drinks knowing you're making a meaningful impact in our community!\n\nWe hope to see you there!\n\nDate & Time: Thursday\, July 17\, 2025\n\nLocation: 110 NW 2nd St\, Smithville\, TX 78957\n\nDon't miss out on the fun. Mark your calendars and bring a friend!
X-ALT-DESC;FMTTYPE=text/html:<p --cyv3zq:="" --gjplxq:="" class="cvGsUA direction-ltr align-center para-style-body" line-height:="" style="text-align: center\;" yafcfhdoogk=""><span style="font-size:14px\;"><span class="OYPEnA font-feature-liga-off font-feature-clig-off font-feature-calt-off text-decoration-none text-strikethrough-none" style="font-weight: 700\; font-kerning: normal\;">Join Us for the July Mixer with the Consuela!</span></span></p>\n\n<p --cyv3zq:="" --gjplxq:="" class="cvGsUA direction-ltr align-center para-style-body" line-height:="" style="text-align: center\;" yafcfhdoogk=""><span style="font-size:14px\;"><span class="OYPEnA font-feature-liga-off font-feature-clig-off font-feature-calt-off text-decoration-none text-strikethrough-none" style="font-kerning: normal\;">We&rsquo\;re excited to invite the Smithville community to our July Mixer! Come connect\, network\, and enjoy great company in a relaxed\, welcoming atmosphere. It&rsquo\;s the perfect opportunity to meet new people\, share ideas\, and learn more about what&rsquo\;s happening in our town.</span></span></p>\n\n<p --cyv3zq:="" --gjplxq:="" class="cvGsUA direction-ltr align-center para-style-body" line-height:="" style="text-align: center\;" yafcfhdoogk=""><span style="font-size:14px\;"><span class="OYPEnA font-feature-liga-off font-feature-clig-off font-feature-calt-off text-decoration-none text-strikethrough-none" style="font-kerning: normal\;">We&rsquo\;re thrilled to announce that Consuela&rsquo\;s will be donating 20% of all purchases made during the mixer to We Support Smithville ISD! This incredible support helps us award scholarships and host the annual Banquet honoring the Top 10% of the Senior Graduating class. Come enjoy great food and drinks knowing you&rsquo\;re making a meaningful impact in our community!</span></span></p>\n\n<p --cyv3zq:="" --gjplxq:="" class="cvGsUA direction-ltr align-center para-style-body" line-height:="" style="text-align: center\;" yafcfhdoogk=""><span style="font-size:14px\;"><span class="OYPEnA font-feature-liga-off font-feature-clig-off font-feature-calt-off text-decoration-none text-strikethrough-none" style="font-kerning: normal\;">We hope to see you there!</span></span></p>\n\n<p --cyv3zq:="" --gjplxq:="" class="cvGsUA direction-ltr align-center para-style-body" line-height:="" style="text-align: center\;" yafcfhdoogk=""><span style="font-size:14px\;"><span class="OYPEnA font-feature-liga-off font-feature-clig-off font-feature-calt-off text-decoration-none text-strikethrough-none" style="font-kerning: normal\;">Date &amp\; Time: Thursday\, July 17\, 2025</span></span></p>\n\n<p --cyv3zq:="" --gjplxq:="" class="cvGsUA direction-ltr align-center para-style-body" line-height:="" style="text-align: center\;" yafcfhdoogk=""><span style="font-size:14px\;"><span class="OYPEnA font-feature-liga-off font-feature-clig-off font-feature-calt-off text-decoration-none text-strikethrough-none" style="font-kerning: normal\;">Location: 110 NW 2nd St\, Smithville\, TX 78957</span></span></p>\n\n<p --cyv3zq:="" --gjplxq:="" class="cvGsUA direction-ltr align-center para-style-body" line-height:="" style="text-align: center\;" yafcfhdoogk=""><span style="font-size:14px\;"><span class="OYPEnA font-feature-liga-off font-feature-clig-off font-feature-calt-off text-decoration-none text-strikethrough-none" style="font-kerning: normal\;">Don&rsquo\;t miss out on the fun. Mark your calendars and bring a friend!</span></span></p>\n
LOCATION:110 NW 2nd St.\, Smithville\, Texas 78957
UID:e.2762.9366
SEQUENCE:3
DTSTAMP:20260421T100308Z
URL:https://business.smithvilletx.org/events/details/july-chamber-mixer-9366
END:VEVENT

END:VCALENDAR
