BEGIN:VCALENDAR
VERSION:2.0
PRODID:-//ChamberMaster//Event Calendar 2.0//EN
METHOD:PUBLISH
X-PUBLISHED-TTL:P3D
REFRESH-INTERVAL:P3D
CALSCALE:GREGORIAN
BEGIN:VEVENT
DTSTART:20240406T150000Z
DTEND:20240406T190000Z
X-MICROSOFT-CDO-ALLDAYEVENT:FALSE
SUMMARY:Houston Slingshot Riders Car Show
DESCRIPTION:Houston Slingshot Riders Car Show\n\nSaturday\, April 6th\n\nThe Houston Slingshot Riders will start to arrive by 10AM and line up throughout Downtown Main Street. We will have vendors and music playing at the gazebo area.\n\n\n\nAll vendors will be set up in the Gazebo area on the grassy and covered pavilion\, bring a lawn chair listen to music\, explore the Slingshots\, shop downtown and then get ready for the Jamboree Parade (Parade starts at 1:30PM).\n\n\n\nThe Houston Slingshot Riders will join the Smithville Jamboree Parade and will start lining up around 1:00PM\n\n\n\nREGISTER TO BECOME A VENDOR!
X-ALT-DESC;FMTTYPE=text/html:<strong>Houston Slingshot Riders Car Show</strong><br />\n<em><strong><span style="color:#FF0000\;">Saturday\, April 6</span></strong></em><sup><em><strong><span style="color:#FF0000\;">th</span></strong></em></sup><br />\nThe Houston Slingshot Riders will start to arrive by 10AM and line up throughout Downtown Main Street. We will have vendors and music playing at the gazebo area.<br />\n<br />\nAll vendors will be set up in the Gazebo area on the grassy and covered pavilion\, bring a lawn chair listen to music\, explore the Slingshots\, shop downtown and then get ready for the Jamboree Parade (Parade starts at 1:30PM).<br />\n<br />\nThe Houston Slingshot Riders will join the Smithville Jamboree Parade and will start lining up around 1:00PM<br />\n<br />\n<b><i>REGISTER TO BECOME A VENDOR!</i></b>
LOCATION:Downtown Smithville\, TX 100 NW 1st\, Smithville\, TX 7957
UID:e.2762.8743
SEQUENCE:3
DTSTAMP:20260423T002632Z
URL:https://business.smithvilletx.org/events/details/houston-slingshot-riders-car-show-8743
END:VEVENT

END:VCALENDAR
