BEGIN:VCALENDAR
VERSION:2.0
PRODID:-//ChamberMaster//Event Calendar 2.0//EN
METHOD:PUBLISH
X-PUBLISHED-TTL:P3D
REFRESH-INTERVAL:P3D
CALSCALE:GREGORIAN
BEGIN:VEVENT
DTSTART:20170930T143000Z
DTEND:20170930T190000Z
X-MICROSOFT-CDO-ALLDAYEVENT:FALSE
SUMMARY:Honor Choir Trip to Ireland Fundraiser
DESCRIPTION:The Honor Choir 2018 Enrichment Trip This year\, in June of 2018\, we're partnering with a children's choir in IRELAND to do a joint fundraiser for the Irish Society for the Prevention of Cruelty to Children. We've been invited also to participate in LIMERICK SINGS! --a major international choir festival.The choir will hold several fundraisers from now until they go. On Saturday\, September 16th & 30th they will be at Tractor Supply selling Sonic Discount Cards\, Beef Jerky\, Sausage wraps and also asking folks to bring their unwanted clothing in kitchen bags to donate. The Choir appreciates all our community does to support them.
X-ALT-DESC;FMTTYPE=text/html:The Honor Choir 2018 Enrichment Trip This year\, in June of 2018\, we&rsquo\;re partnering with a children&rsquo\;s choir in IRELAND to do a joint fundraiser for the Irish Society for the Prevention of Cruelty to Children. We&rsquo\;ve been invited also to participate in LIMERICK SINGS! --a major international choir festival.The choir will hold several fundraisers from now until they go. On Saturday\, September 16th &amp\; 30th they will be at Tractor Supply selling Sonic Discount Cards\, Beef Jerky\, Sausage wraps and also asking folks to bring their unwanted clothing in kitchen bags to donate. The Choir appreciates all our community does to support them.
LOCATION:Tractor Supply parking lot in Bastrop on Hwy 71
UID:e.2762.4421
SEQUENCE:3
DTSTAMP:20260424T034201Z
URL:https://business.smithvilletx.org/events/details/honor-choir-trip-to-ireland-fundraiser-09-30-2017-4421
END:VEVENT

END:VCALENDAR
