BEGIN:VCALENDAR
VERSION:2.0
PRODID:-//ChamberMaster//Event Calendar 2.0//EN
METHOD:PUBLISH
X-PUBLISHED-TTL:P3D
REFRESH-INTERVAL:P3D
CALSCALE:GREGORIAN
BEGIN:VEVENT
DTSTART:20201031T220000Z
DTEND:20201101T003000Z
X-MICROSOFT-CDO-ALLDAYEVENT:FALSE
SUMMARY:Halloween SPOOKTACULAR!
DESCRIPTION:Mark your calendars for a SPOOKTACULAR Halloween downtown on Main Street!  There will be free ghost tours (6pm & 7:30pm)\, a haunted house (at 110 Main St.   hosted by Playhouse Smithville  - tickets are $5)\, candy at all the participating merchant shops.  A BIG thanks to our TITLE SPONSOR -First National Bank.\n\n\n\nCome down from 5pm to 7:30pm (haunted house goes until 9pm. There is a $5 entry fee for the haunted house) where we'll have lots of candy and fun for everyone!  If you have a business or organization not located downtown and you want to participate\, call the Chamber and we'll get you set up along Main Street so you can join in the fun as well!  Call us at 512-237-2313.
X-ALT-DESC;FMTTYPE=text/html:<p style="margin: 0px 0px 10.66px\; text-align: justify\;"><span style="margin: 0px\; color: black\; font-family: &quot\;Arial&quot\;\,sans-serif\;">Mark your calendars for a <b>SPOOKTACULAR Halloween downtown on Main Street</b>!<span style="margin: 0px\;">&nbsp\; </span>There will be free ghost tours (6pm &amp\; 7:30pm)\, a haunted house (at 110 Main St.&nbsp\;&ndash\; hosted by Playhouse Smithville&nbsp\; - tickets are $5)\, candy at all the participating merchant shops.&nbsp\; A BIG thanks to our TITLE SPONSOR -<span style="margin: 0px\;">First National Bank.</span><br />\n<br />\nCome down from 5pm to 7:30pm (haunted house goes until&nbsp\;9pm. There is a $5 entry fee for the haunted house) where we&rsquo\;ll have lots of candy and fun for everyone!<span style="margin: 0px\;">&nbsp\; </span>If you have a business or organization not located downtown and you want to participate\, call the Chamber and we&rsquo\;ll get you set up along Main Street so you can join in the fun as well!<span style="margin: 0px\;">&nbsp\; </span>Call us at 512-237-2313.</span></p>\n
LOCATION:Downtown Main Street Smithville
UID:e.2762.6309
SEQUENCE:3
DTSTAMP:20260422T054504Z
URL:https://business.smithvilletx.org/events/details/halloween-spooktacular-6309
END:VEVENT

END:VCALENDAR
