BEGIN:VCALENDAR
VERSION:2.0
PRODID:-//ChamberMaster//Event Calendar 2.0//EN
METHOD:PUBLISH
X-PUBLISHED-TTL:P3D
REFRESH-INTERVAL:P3D
CALSCALE:GREGORIAN
BEGIN:VEVENT
DTSTART:20250503T220000Z
DTEND:20250504T040000Z
X-MICROSOFT-CDO-ALLDAYEVENT:FALSE
SUMMARY:Get Down and Give Tonight! The Family Crisis Center's 32nd Annual Dinner & Dance
DESCRIPTION:Hustle on over to the Family Crisis Center's 32nd Annual Dinner and Dance\, Get Down and Give Tonight! The evening will include a catered dinner\, live & silent auctions\, entertainment\, and dancing! The Original Remnants are providing the groovy musical entertainment for the evening. Sponsorships are available by reaching out to us at fcc@familycrisiscenter.us or calling 512-321-7760 Space is limited so tickets at the door are not guaranteed!
X-ALT-DESC;FMTTYPE=text/html:Hustle on over to the Family Crisis Center&#39\;s 32nd Annual Dinner and Dance\, Get Down and Give Tonight! The evening will include a catered dinner\, live &amp\; silent auctions\, entertainment\, and dancing! The Original Remnants are providing the groovy musical entertainment for the evening. Sponsorships are available by reaching out to us at fcc@familycrisiscenter.us or calling 512-321-7760 Space is limited so tickets at the door are not guaranteed!
LOCATION:Knights of Columbus Hall 190 S. Brown St. La Grange\, Texas
UID:e.2762.9312
SEQUENCE:3
DTSTAMP:20260422T063424Z
URL:https://business.smithvilletx.org/events/details/get-down-and-give-tonight-the-family-crisis-center-s-32nd-annual-dinner-dance-9312
END:VEVENT

END:VCALENDAR
