BEGIN:VCALENDAR
VERSION:2.0
PRODID:-//ChamberMaster//Event Calendar 2.0//EN
METHOD:PUBLISH
X-PUBLISHED-TTL:P3D
REFRESH-INTERVAL:P3D
CALSCALE:GREGORIAN
BEGIN:VEVENT
DTSTART:20250801T170000Z
DTEND:20250801T210000Z
X-MICROSOFT-CDO-ALLDAYEVENT:FALSE
SUMMARY:Frontier Bank 1 Year Anniversary
DESCRIPTION:Come out and celebrate Frontier Bank's 1 Year Anniversary with FREE Snow Cones and Mini Bundt Cakes!!
X-ALT-DESC;FMTTYPE=text/html:Come out and celebrate Frontier Bank&#39\;s 1 Year Anniversary with FREE Snow Cones and Mini Bundt Cakes!!
LOCATION:
UID:e.2762.9778
SEQUENCE:3
DTSTAMP:20260421T232508Z
URL:https://business.smithvilletx.org/events/details/frontier-bank-1-year-anniversary-9778
END:VEVENT

END:VCALENDAR
