BEGIN:VCALENDAR
VERSION:2.0
PRODID:-//ChamberMaster//Event Calendar 2.0//EN
METHOD:PUBLISH
X-PUBLISHED-TTL:P3D
REFRESH-INTERVAL:P3D
CALSCALE:GREGORIAN
BEGIN:VEVENT
DTSTART;VALUE=DATE:20240126
DTEND;VALUE=DATE:20240129
TRANSP:TRANSPARENT
X-MICROSOFT-CDO-ALLDAYEVENT:TRUE
SUMMARY:Freaky Friday the Musical
DESCRIPTION:Directed by: Christina Burbank Shelton\n\n\nWhen an overworked mother and her teenage daughter magically swap bodies\, they have just one day to put things right again. Freaky Friday\, a new musical based on the celebrated novel by Mary Rodgers and the hit Disney films\, is a heartfelt\, comedic\, and unexpectedly emotional update on an American classic. By spending a day in each other's shoes\, Katherine and Ellie come to appreciate one another's struggles\, learn self-acceptance\, and realize the immeasurable love and mutual respect that bond a mother and daughter.\n\n\n\n\n\n\n\n\n\nJanuary 19th   February 4th\, 2024
X-ALT-DESC;FMTTYPE=text/html:<div style="background:50% center / cover no-repeat rgb(255\, 255\, 255)\; border:0px\; padding:0px">\n<div style="background:transparent\; border:0px\; padding:0px"><strong>Directed by:&nbsp\;</strong>Christina Burbank Shelton\n<div style="background:transparent\; border:0px\; padding:0px">\n<div style="background:transparent\; border:0px\; padding:0px">\n<div style="background:transparent\; border:0px\; padding:0px">When an overworked mother and her teenage daughter magically swap bodies\, they have just one day to put things right again. Freaky Friday\, a new musical based on the celebrated novel by Mary Rodgers and the hit Disney films\, is a heartfelt\, comedic\, and unexpectedly emotional update on an American classic. By spending a day in each other&rsquo\;s shoes\, Katherine and Ellie come to appreciate one another&rsquo\;s struggles\, learn self-acceptance\, and realize the immeasurable love and mutual respect that bond a mother and daughter.</div>\n</div>\n</div>\n</div>\n</div>\n\n<div style="background:50% center / cover no-repeat rgb(255\, 255\, 255)\; border:0px\; padding:0px">\n<div style="background:transparent\; border:0px\; padding:0px">\n<div style="background:transparent\; border:0px\; padding:0px">\n<div style="background:transparent\; border:0px\; padding:0px">\n<div style="background:transparent\; border:0px\; padding:0px"><strong>January 19th &ndash\; February 4th\, 2024</strong></div>\n</div>\n</div>\n</div>\n</div>\n
LOCATION:Bastrop Opera House 711 Spring St. Bastrop\, TX 78602
UID:e.2762.8693
SEQUENCE:3
DTSTAMP:20260426T011219Z
URL:https://business.smithvilletx.org/events/details/freaky-friday-the-musical-01-26-2024-8693
END:VEVENT

END:VCALENDAR
