BEGIN:VCALENDAR
VERSION:2.0
PRODID:-//ChamberMaster//Event Calendar 2.0//EN
METHOD:PUBLISH
X-PUBLISHED-TTL:P3D
REFRESH-INTERVAL:P3D
CALSCALE:GREGORIAN
BEGIN:VEVENT
DTSTART:20230330T210000Z
DTEND:20230330T230000Z
X-MICROSOFT-CDO-ALLDAYEVENT:FALSE
SUMMARY:For-Gott’n Lyrics Karaoke Ribbon Cutting
DESCRIPTION:Please join us for the Ribbon Cutting for For-Gott'n Lyrics Karaoke at Carne Lenta!\n\nThursday March 30th\, with happy hour meet and greet 4 pm-6 pm\, appetizers will be provided\, followed by their first karaoke night since December!
X-ALT-DESC;FMTTYPE=text/html:<span style="font-family:arial\;"><u><strong>Please join us for the Ribbon Cutting for </strong></u><span style="background-color: rgb(255\, 255\, 255)\;"><u><strong>For-Gott&rsquo\;n Lyrics Karaoke at Carne Lenta!</strong></u><br />\nThursday March 30th\, with happy hour meet and greet 4 pm-6 pm\, appetizers will be provided\, followed&nbsp\;by their first karaoke night since December!</span></span>
LOCATION:Carne Lenta 114 N. E. 2nd Street Smithville\, TX 78957
UID:e.2762.8619
SEQUENCE:3
DTSTAMP:20260423T195514Z
URL:https://business.smithvilletx.org/events/details/for-gott-n-lyrics-karaoke-ribbon-cutting-8619
END:VEVENT

END:VCALENDAR
