BEGIN:VCALENDAR
VERSION:2.0
PRODID:-//ChamberMaster//Event Calendar 2.0//EN
METHOD:PUBLISH
X-PUBLISHED-TTL:P3D
REFRESH-INTERVAL:P3D
CALSCALE:GREGORIAN
BEGIN:VEVENT
DTSTART:20260214T220000Z
DTEND:20260215T000000Z
X-MICROSOFT-CDO-ALLDAYEVENT:FALSE
SUMMARY:First Baptist Church Smithville Women's Ministry: Galentine's Bingo & Social
DESCRIPTION:Join FBC Women's Ministry for a Galentine's Bingo & Social!
X-ALT-DESC;FMTTYPE=text/html:Join FBC Women&#39\;s Ministry for a Galentine&#39\;s Bingo &amp\; Social!
LOCATION:First Baptist Church Smithville Fellowship Hall 305 Hudgins Street Smithville\, Texas 78957
UID:e.2762.11748
SEQUENCE:3
DTSTAMP:20260421T084650Z
URL:https://business.smithvilletx.org/events/details/first-baptist-church-smithville-women-s-ministry-galentine-s-bingo-social-11748
END:VEVENT

END:VCALENDAR
