BEGIN:VCALENDAR
VERSION:2.0
PRODID:-//ChamberMaster//Event Calendar 2.0//EN
METHOD:PUBLISH
X-PUBLISHED-TTL:P3D
REFRESH-INTERVAL:P3D
CALSCALE:GREGORIAN
BEGIN:VEVENT
DTSTART:20260131T140000Z
DTEND:20260131T230000Z
X-MICROSOFT-CDO-ALLDAYEVENT:FALSE
SUMMARY:First Baptist Church Men's Ministry "The Armory" Breakfast & Skeet Shoot
DESCRIPTION:Men's Breakfast and Skeet Shoot
X-ALT-DESC;FMTTYPE=text/html:Men&#39\;s Breakfast and Skeet Shoot
LOCATION:Jody Kadlecek's 205 Old Lake Road Smithville\, Texas 78957
UID:e.2762.11710
SEQUENCE:3
DTSTAMP:20260421T082859Z
URL:https://business.smithvilletx.org/events/details/first-baptist-church-men-s-ministry-the-armory-breakfast-skeet-shoot-11710
END:VEVENT

END:VCALENDAR
