BEGIN:VCALENDAR
VERSION:2.0
PRODID:-//ChamberMaster//Event Calendar 2.0//EN
METHOD:PUBLISH
X-PUBLISHED-TTL:P3D
REFRESH-INTERVAL:P3D
CALSCALE:GREGORIAN
BEGIN:VEVENT
DTSTART:20260328T230000Z
DTEND:20260329T010000Z
X-MICROSOFT-CDO-ALLDAYEVENT:FALSE
SUMMARY:First Baptist Church Worship Night
DESCRIPTION:FBC Worship Night \n\nCome join us and sign praise to God and listen to His Word!
X-ALT-DESC;FMTTYPE=text/html:FBC Worship Night&nbsp\;<br />\nCome join us and sign praise to God and listen to His Word!
LOCATION:300 Hudgins Street Smithville\, Texas 78957
UID:e.2762.11992
SEQUENCE:3
DTSTAMP:20260423T132032Z
URL:https://business.smithvilletx.org/events/details/fbc-worship-night-11992
END:VEVENT

END:VCALENDAR
