BEGIN:VCALENDAR
VERSION:2.0
PRODID:-//ChamberMaster//Event Calendar 2.0//EN
METHOD:PUBLISH
X-PUBLISHED-TTL:P3D
REFRESH-INTERVAL:P3D
CALSCALE:GREGORIAN
BEGIN:VEVENT
DTSTART;VALUE=DATE:20210828
DTEND;VALUE=DATE:20210913
TRANSP:TRANSPARENT
X-MICROSOFT-CDO-ALLDAYEVENT:TRUE
SUMMARY:ECO/PHOTO FEST
DESCRIPTION:ECO/PHOTO FEST 2021: \n\nThe Eco/Photo Fest will be a blend of live and virtual programming this year. Beginning on August 28\, Eco/Photo Fest will kick off a week of events including a live photography events on August 28th downtown in the RR Park from 10am to 12pm.  The virtual conference will continue through September 12th with speakers that will focus on the connection between photographic instruction and relatable topics in the environment and ecological systems and a photo competition.\n\n\n\nThank you to our event sponsor:  WJC Constructors\n\n \n\nTopics that blend ecology with photography will include:\n\n	Habitats Are All Around Us!\n	Workshop: Bike Repair/Maintenance and Bike Rodeo\n	Photo opportunities hosted in various businesses in Smithville and in the RR Park\n	Architectural Photography\n	And More!\n\nThe format this year will include pre-recorded interviews with each of the panelists as well as an interactive "conference" style program. All will "go live" on August 28\, 2021.  We will have an in-person event on August 28\, 2021 in downtown Smithville to include lots of activities for photographers and other participants.  Photo ops will include guided train tours\, a "Bird Parade" and more. \n\n \n\nOf course\, the Photo Fest side will host a photography contest\, through which participants will submit photos after having learned something through the photography instruction for prizes and recognition throughout the week following the conference. The official end of the program will be 9/12/2021\, when the photo contest will end (ends at midnight).\n\n\n\nCLICK "REGISTER" ON THIS PAGE TO BE A SPONSOR.
X-ALT-DESC;FMTTYPE=text/html:<span style="color:#FF0000\;"><strong>ECO/PHOTO FEST 2021: </strong></span><br />\nThe Eco/Photo Fest will be a blend of live and virtual programming this year. Beginning on August 28\, Eco/Photo Fest will kick off a week of events including a live photography events on August 28th downtown in the RR Park from 10am to 12pm.&nbsp\; The virtual conference will continue through September 12th with speakers that will focus on the connection between photographic instruction and relatable topics in the environment and ecological systems and a photo competition.<br />\n<br />\nThank you to our event sponsor:&nbsp\; <strong>WJC Constructors</strong><br />\n&nbsp\;<br />\nTopics that blend ecology with photography will include:\n<ul>\n	<li>Habitats Are All Around Us!</li>\n	<li>Workshop: Bike Repair/Maintenance and Bike Rodeo</li>\n	<li>Photo opportunities hosted in various businesses in Smithville and in the RR Park</li>\n	<li>Architectural Photography</li>\n	<li>And More!</li>\n</ul>\n<span style="font-size:11.0pt\;">The format this year will include pre-recorded interviews with each of the panelists as well as an interactive &ldquo\;conference&rdquo\; style program. All will &quot\;go live&quot\; on August 28\, 2021.&nbsp\; We will have an in-person event on August 28\, 2021 in downtown Smithville to include lots of activities for photographers and other participants.&nbsp\; Photo ops will include guided train tours\, a &quot\;Bird Parade&quot\; and more.&nbsp\;</span><br />\n&nbsp\;<br />\n<span style="font-size:11.0pt\;">Of course\, the Photo Fest side will host a photography contest\, through which participants will submit photos after having learned something through the photography instruction for prizes and recognition throughout the week following the conference. The official end of the program will be 9/12/2021\, when the photo contest will end (ends at midnight).<br />\n<br />\nCLICK &quot\;REGISTER&quot\; ON THIS PAGE TO BE A SPONSOR.</span>
LOCATION:ONLINE AT www.smithvilletx.org
UID:e.2762.6558
SEQUENCE:3
DTSTAMP:20260424T085725Z
URL:https://business.smithvilletx.org/events/details/eco-photo-fest-6558
END:VEVENT

END:VCALENDAR
