BEGIN:VCALENDAR
VERSION:2.0
PRODID:-//ChamberMaster//Event Calendar 2.0//EN
METHOD:PUBLISH
X-PUBLISHED-TTL:P3D
REFRESH-INTERVAL:P3D
CALSCALE:GREGORIAN
BEGIN:VEVENT
DTSTART:20250603T230000Z
DTEND:20250604T010000Z
X-MICROSOFT-CDO-ALLDAYEVENT:FALSE
SUMMARY:Domestic Violence Support Group - Smithville Community Clinic
DESCRIPTION:Domestic Violence Support Group\n\nA confidential support group is available for individuals facing challenging or unsafe situations at home. This group meets monthly to offer a safe\, supportive space to connect\, share\, and heal.\n\nIf you or someone you know may benefit\, please call the clinic for more information and location details. All inquiries are handled with care and complete confidentiality.\n\nPlease call the Smithville Community Clinic at 512-730-0091 for more information\, including meeting details and how we can help.\n\nYour safety and privacy are our top priorities. Reach out when you're ready   we're here.
X-ALT-DESC;FMTTYPE=text/html:<p style="margin: 0px 0px 1rem\; line-height: 23.1px\; overflow-wrap: break-word\; font-family: neue-haas-grotesk-text\; font-size: 15.4px\; letter-spacing: 0.308px\; white-space-collapse: preserve\; background-color: rgb(255\, 255\, 255)\;">Domestic Violence Support Group</p>\n\n<p style="margin: 1rem 0px\; line-height: 23.1px\; overflow-wrap: break-word\; font-family: neue-haas-grotesk-text\; font-size: 15.4px\; letter-spacing: 0.308px\; white-space-collapse: preserve\; background-color: rgb(255\, 255\, 255)\;">A confidential support group is available for individuals facing challenging or unsafe situations at home. This group meets monthly to offer a safe\, supportive space to connect\, share\, and heal.</p>\n\n<p style="margin: 1rem 0px\; line-height: 23.1px\; overflow-wrap: break-word\; font-family: neue-haas-grotesk-text\; font-size: 15.4px\; letter-spacing: 0.308px\; white-space-collapse: preserve\; background-color: rgb(255\, 255\, 255)\;">If you or someone you know may benefit\, please call the clinic for more information and location details. All inquiries are handled with care and complete confidentiality.</p>\n\n<p style="margin: 1rem 0px\; line-height: 23.1px\; overflow-wrap: break-word\; font-family: neue-haas-grotesk-text\; font-size: 15.4px\; letter-spacing: 0.308px\; white-space-collapse: preserve\; background-color: rgb(255\, 255\, 255)\;">Please call the <span style="font-weight: 700\; overflow-wrap: break-word\;">Smithville Community Clinic at 512-730-0091</span> for more information\, including meeting details and how we can help.</p>\n\n<p style="margin: 1rem 0px\; line-height: 23.1px\; overflow-wrap: break-word\; font-family: neue-haas-grotesk-text\; font-size: 15.4px\; letter-spacing: 0.308px\; white-space-collapse: preserve\; background-color: rgb(255\, 255\, 255)\;">Your safety and privacy are our top priorities. Reach out when you&#39\;re ready &mdash\; we&#39\;re here.</p>\n
LOCATION:
UID:e.2762.9364
SEQUENCE:3
DTSTAMP:20260422T050819Z
URL:https://business.smithvilletx.org/events/details/domestic-violence-support-group-smithville-community-clinic-9364
END:VEVENT

END:VCALENDAR
