BEGIN:VCALENDAR
VERSION:2.0
PRODID:-//ChamberMaster//Event Calendar 2.0//EN
METHOD:PUBLISH
X-PUBLISHED-TTL:P3D
REFRESH-INTERVAL:P3D
CALSCALE:GREGORIAN
BEGIN:VEVENT
DTSTART:20250417T190000Z
DTEND:20250417T210000Z
X-MICROSOFT-CDO-ALLDAYEVENT:FALSE
SUMMARY:Diabetes Class - Smithville Community Clinic
DESCRIPTION:Join us for a FREE Diabetes Class at 2:00 pm! (1st and 3rd Thursdays of the month)\n\nWhether you're diabetic or pre-diabetic\, this class is a great opportunity to learn practical tips and tools to lead a healthier life.\n\nNo registration required ? just show up and take the first step towards a healthier\, stronger you!  \n\nLocation: First United Methodist Church\, Smithville\, TX (400 Olive St.)\n\nWe can?t wait to see you there and support you on your journey to better health!\n\nQuestions? Call us at 210-259-3733
X-ALT-DESC;FMTTYPE=text/html:<p style="margin: 0px 0px 1rem\; line-height: var(--body-font-line-height)\; overflow-wrap: break-word\; font-family: neue-haas-grotesk-text\; font-size: 15.536px\; letter-spacing: 0.31072px\; white-space-collapse: preserve\; background-color: rgb(255\, 255\, 255)\;">Join us for a FREE Diabetes Class at 2:00 pm! (1st and 3rd Thursdays of the month)</p>\n\n<p style="margin: 1rem 0px\; line-height: var(--body-font-line-height)\; overflow-wrap: break-word\; font-family: neue-haas-grotesk-text\; font-size: 15.536px\; letter-spacing: 0.31072px\; white-space-collapse: preserve\; background-color: rgb(255\, 255\, 255)\;">Whether you&#39\;re diabetic or pre-diabetic\, this class is a great opportunity to learn practical tips and tools to lead a healthier life.</p>\n\n<p style="margin: 1rem 0px\; line-height: var(--body-font-line-height)\; overflow-wrap: break-word\; font-family: neue-haas-grotesk-text\; font-size: 15.536px\; letter-spacing: 0.31072px\; white-space-collapse: preserve\; background-color: rgb(255\, 255\, 255)\;">No registration required ? just show up and take the first step towards a healthier\, stronger you! &#128095\;</p>\n\n<p style="margin: 1rem 0px\; line-height: var(--body-font-line-height)\; overflow-wrap: break-word\; font-family: neue-haas-grotesk-text\; font-size: 15.536px\; letter-spacing: 0.31072px\; white-space-collapse: preserve\; background-color: rgb(255\, 255\, 255)\;">Location: First United Methodist Church\, Smithville\, TX (400 Olive St.)</p>\n\n<p style="margin: 1rem 0px\; line-height: var(--body-font-line-height)\; overflow-wrap: break-word\; font-family: neue-haas-grotesk-text\; font-size: 15.536px\; letter-spacing: 0.31072px\; white-space-collapse: preserve\; background-color: rgb(255\, 255\, 255)\;">We can?t wait to see you there and support you on your journey to better health!</p>\n\n<p style="margin: 1rem 0px 0px\; line-height: var(--body-font-line-height)\; overflow-wrap: break-word\; font-family: neue-haas-grotesk-text\; font-size: 15.536px\; letter-spacing: 0.31072px\; white-space-collapse: preserve\; background-color: rgb(255\, 255\, 255)\;">Questions? Call us at 210-259-3733</p>\n
LOCATION:First United Methodist Church\, Smithville\, TX 400 Olive St.
UID:e.2762.9266
SEQUENCE:3
DTSTAMP:20260422T113622Z
URL:https://business.smithvilletx.org/events/details/diabetes-class-smithville-community-clinic-04-17-2025-9266
END:VEVENT

END:VCALENDAR
