BEGIN:VCALENDAR
VERSION:2.0
PRODID:-//ChamberMaster//Event Calendar 2.0//EN
METHOD:PUBLISH
X-PUBLISHED-TTL:P3D
REFRESH-INTERVAL:P3D
CALSCALE:GREGORIAN
BEGIN:VEVENT
DTSTART:20250209T000000Z
DTEND:20250209T040000Z
X-MICROSOFT-CDO-ALLDAYEVENT:FALSE
SUMMARY:Cowboys & Angels Gala - Smithville Community Clinic
DESCRIPTION:Join us on Saturday\, February 8\, 2025\, for our Cowboys & Angels Gala from 6pm-10pm at the Hampton Inn & Suites - Texas Ballroom.\n\nJoin us for a night of fun and fundraising at the Hampton Inn & Suites Bastrop. Dust off your cowboy boots and spread your wings for a great cause. This in-person event promises to be a memorable evening filled with music\, dancing\, and giving back to our community. Come dressed in your best western attire or angelic white   the choice is yours! Let's come together to support the only free clinic in Bastrop County and make a difference! See you there!\n\nSmithville Community Clinic is a 501(c)(3) and is the provider of any tickets sold to this event \; this event is exempt from Texas sales and use tax.\n\nSponsorship Information (737) 973-1580 or click here for more information.\n\nwww.smithvillecommunityclinic.org
X-ALT-DESC;FMTTYPE=text/html:<p style="margin: 1rem 0px\; line-height: var(--body-font-line-height)\; overflow-wrap: break-word\; font-family: neue-haas-grotesk-text\; font-size: 15.0416px\; letter-spacing: 0.300832px\; white-space-collapse: preserve\; background-color: rgb(255\, 255\, 255)\;">Join us on Saturday\, February 8\, 2025\, for our Cowboys &amp\; Angels Gala from 6pm-10pm at the Hampton Inn &amp\; Suites - Texas Ballroom.</p>\n\n<p style="margin: 0px\; padding: 0px\; box-sizing: border-box\; font-size: 16px\; line-height: 1.5rem\; color: rgb(111\, 114\, 135)\; font-family: &quot\;Neue Plak&quot\;\, -apple-system\, BlinkMacSystemFont\, Roboto\, &quot\;Helvetica Neue&quot\;\, Helvetica\, Tahoma\, Arial\, sans-serif\; background-color: rgb(255\, 255\, 255)\;">Join us for a night of fun and fundraising at the&nbsp\;<span style="font-weight: 700\; box-sizing: border-box\;">Hampton Inn &amp\; Suites Bastrop</span>. Dust off your cowboy boots and spread your wings for a great cause. This in-person event promises to be a memorable evening filled with music\, dancing\, and giving back to our community. Come dressed in your best western attire or angelic white &ndash\; the choice is yours! Let&#39\;s come together to support the only free clinic in Bastrop County and make a difference! See you there!</p>\n\n<p style="margin: 0px\; padding: 10px 0px 0px\; box-sizing: border-box\; font-size: 16px\; line-height: 1.5rem\; color: rgb(111\, 114\, 135)\; font-family: &quot\;Neue Plak&quot\;\, -apple-system\, BlinkMacSystemFont\, Roboto\, &quot\;Helvetica Neue&quot\;\, Helvetica\, Tahoma\, Arial\, sans-serif\; background-color: rgb(255\, 255\, 255)\;"><em style="box-sizing: border-box\; padding-top: 0px\;">Smithville Community Clinic is a 501(c)(3) and is the provider of any tickets sold to this event \; this event is exempt from Texas sales and use tax.</em></p>\n\n<p style="margin: 1rem 0px\; line-height: var(--body-font-line-height)\; overflow-wrap: break-word\; font-family: neue-haas-grotesk-text\; font-size: 15.0416px\; letter-spacing: 0.300832px\; white-space-collapse: preserve\; background-color: rgb(255\, 255\, 255)\;">Sponsorship Information (737) 973-1580 or click <a href="https://www.smithvillecommunityclinic.org/events-1/healthy-holiday-habits-y6mtp">here</a> for more information.</p>\n\n<p style="margin: 1rem 0px\; line-height: var(--body-font-line-height)\; overflow-wrap: break-word\; font-family: neue-haas-grotesk-text\; font-size: 15.0416px\; letter-spacing: 0.300832px\; white-space-collapse: preserve\; background-color: rgb(255\, 255\, 255)\;">www.smithvillecommunityclinic.org</p>\n
LOCATION:Hampton Inn & Suites - Texas Ballroom 240 South Hasler Boulevard Bastrop\, Texas 78602
UID:e.2762.9136
SEQUENCE:3
DTSTAMP:20260422T142359Z
URL:https://business.smithvilletx.org/events/details/cowboys-angels-gala-smithville-community-clinic-9136
END:VEVENT

END:VCALENDAR
