BEGIN:VCALENDAR
VERSION:2.0
PRODID:-//ChamberMaster//Event Calendar 2.0//EN
METHOD:PUBLISH
X-PUBLISHED-TTL:P3D
REFRESH-INTERVAL:P3D
CALSCALE:GREGORIAN
BEGIN:VEVENT
DTSTART:20230520T213000Z
DTEND:20230521T003000Z
X-MICROSOFT-CDO-ALLDAYEVENT:FALSE
SUMMARY:Closing Reception: Works by Joey Brock
DESCRIPTION:We are excited to announce the closing reception for work from Dallas-based artist Joey Brock on Saturday\, May 20th from 4:30-7:30 p.m.! This is your last chance to see these incredible mixed-media portraits in person\, so don't miss out. We'll have fabulous art from Joey and our crew of Texas artists including Felice House\, Dana Younger\, and Judy Paul. Enjoy art\, drinks\, and good vibes. All are welcome!
X-ALT-DESC;FMTTYPE=text/html:We are excited to announce the closing reception for work from Dallas-based artist Joey Brock on Saturday\, May 20th from 4:30-7:30 p.m.! This is your last chance to see these incredible mixed-media portraits in person\, so don&#39\;t miss out. We&rsquo\;ll have fabulous art from Joey and our crew of Texas artists including Felice House\, Dana Younger\, and Judy Paul. Enjoy art\, drinks\, and good vibes. All are welcome!
LOCATION:Main Gallery - 200 Main Street
UID:e.2762.8637
SEQUENCE:3
DTSTAMP:20260425T135812Z
URL:https://business.smithvilletx.org/events/details/closing-reception-works-by-joey-brock-8637
END:VEVENT

END:VCALENDAR
