BEGIN:VCALENDAR
VERSION:2.0
PRODID:-//ChamberMaster//Event Calendar 2.0//EN
METHOD:PUBLISH
X-PUBLISHED-TTL:P3D
REFRESH-INTERVAL:P3D
CALSCALE:GREGORIAN
BEGIN:VEVENT
DTSTART:20220319T003000Z
DTEND:20220319T023000Z
X-MICROSOFT-CDO-ALLDAYEVENT:FALSE
SUMMARY:Clinically Undepressed
DESCRIPTION:Cole\, a boy with a chemical imbalance which renders him unable to be sad or angry\, changes everyone around him. The story is told from the perspective of a Vietnam veteran\, who is the grumpy old man of the neighborhood. His main pleasure in life is yelling at kids from his front porch. Because Cole responds differently\, lives are changed.
X-ALT-DESC;FMTTYPE=text/html:Cole\, a boy with a chemical imbalance which renders him unable to be sad or angry\, changes everyone around him. The story is told from the perspective of a Vietnam veteran\, who is the grumpy old man of the neighborhood. His main pleasure in life is yelling at kids from his front porch. Because Cole responds differently\, lives are changed.
LOCATION:Bastrop Opera House 711 Spring St. Bastrop\, TX 78602
UID:e.2762.8358
SEQUENCE:3
DTSTAMP:20260424T194306Z
URL:https://business.smithvilletx.org/events/details/clinically-undepressed-03-18-2022-8358
END:VEVENT

END:VCALENDAR
