BEGIN:VCALENDAR
VERSION:2.0
PRODID:-//ChamberMaster//Event Calendar 2.0//EN
METHOD:PUBLISH
X-PUBLISHED-TTL:P3D
REFRESH-INTERVAL:P3D
CALSCALE:GREGORIAN
BEGIN:VEVENT
DTSTART:20250512T230000Z
DTEND:20250512T230000Z
X-MICROSOFT-CDO-ALLDAYEVENT:FALSE
SUMMARY:City Council Meeting - City of Smithville
DESCRIPTION:
X-ALT-DESC;FMTTYPE=text/html:
LOCATION:317 Main Street Smithville\, TX 78957
UID:e.2762.9330
SEQUENCE:3
DTSTAMP:20260422T063011Z
URL:https://business.smithvilletx.org/events/details/city-council-meeting-city-of-smithville-9330
END:VEVENT

END:VCALENDAR
