BEGIN:VCALENDAR
VERSION:2.0
PRODID:-//ChamberMaster//Event Calendar 2.0//EN
METHOD:PUBLISH
X-PUBLISHED-TTL:P3D
REFRESH-INTERVAL:P3D
CALSCALE:GREGORIAN
BEGIN:VEVENT
DTSTART;VALUE=DATE:20220817
DTEND;VALUE=DATE:20220822
TRANSP:TRANSPARENT
X-MICROSOFT-CDO-ALLDAYEVENT:TRUE
SUMMARY:Casting Call
DESCRIPTION:Casting call for Rear View Mirrors. 14-22+ age male & female. Adults of all ages. When submitting email\, put "high school" in the subject line.
X-ALT-DESC;FMTTYPE=text/html:Casting call for Rear View Mirrors. 14-22+ age male &amp\; female. Adults of all ages. When submitting email\, put &quot\;high school&quot\; in the subject line.
LOCATION:
UID:e.2762.8542
SEQUENCE:3
DTSTAMP:20260425T011529Z
URL:https://business.smithvilletx.org/events/details/casting-call-8542
END:VEVENT

END:VCALENDAR
