BEGIN:VCALENDAR
VERSION:2.0
PRODID:-//ChamberMaster//Event Calendar 2.0//EN
METHOD:PUBLISH
X-PUBLISHED-TTL:P3D
REFRESH-INTERVAL:P3D
CALSCALE:GREGORIAN
BEGIN:VEVENT
DTSTART:20170913T150000Z
DTEND:20170913T180000Z
X-MICROSOFT-CDO-ALLDAYEVENT:FALSE
SUMMARY:Caregiver Health Fair & Symposium
DESCRIPTION:Held at Golden Age Home Assisted Living from 10 am - 1 pm\, this event features vendors\, lunch\, and presentations about Positive Approach to Care by Stephen Catoe. Alzheimer' s Texas is a proud co-host of this FREE event.
X-ALT-DESC;FMTTYPE=text/html:Held at Golden Age Home Assisted Living from 10 am - 1 pm\, this event features vendors\, lunch\, and presentations about Positive Approach to Care by Stephen Catoe. Alzheimer&#39\; s Texas is a proud co-host of this FREE event.
LOCATION:Golden Age Home\, 1505 S Main St\, Lockhart\, TX 78644
UID:e.2762.4425
SEQUENCE:3
DTSTAMP:20260421T203116Z
URL:https://business.smithvilletx.org/events/details/caregiver-health-fair-symposium-4425
END:VEVENT

END:VCALENDAR
