BEGIN:VCALENDAR
VERSION:2.0
PRODID:-//ChamberMaster//Event Calendar 2.0//EN
METHOD:PUBLISH
X-PUBLISHED-TTL:P3D
REFRESH-INTERVAL:P3D
CALSCALE:GREGORIAN
BEGIN:VEVENT
DTSTART:20180216T003000Z
DTEND:20180216T030000Z
X-MICROSOFT-CDO-ALLDAYEVENT:FALSE
SUMMARY:Candidate Forum (Lost Pines Republican Women)
DESCRIPTION:Candidates for U. S. House of Representatives District 27\; Railroad Commissioner\; Agriculture Commissioner\; Bastrop County Judge\; Justice of the Peace Precinct 1\; Bastrop County Commissioner Precinct 4\; Justice\, 3rd Court of Appeals District\, Place 6\; Judge\, Court of Criminal Appeals Place 8\; and Commissioner of the General Land Office have confirmed their participation. All Republican candidates running for elected office in Bastrop County from the county level and up have been invited. This is not a debate. Each candidate will give an opening statement after which\, questions from the audience will be posed by a moderator from questions on index cards submitted by audience members. A meet & greet will follow.
X-ALT-DESC;FMTTYPE=text/html:Candidates for U. S. House of Representatives District 27\; Railroad Commissioner\; Agriculture Commissioner\; Bastrop County Judge\; Justice of the Peace Precinct 1\; Bastrop County Commissioner Precinct 4\; Justice\, 3rd Court of Appeals District\, Place 6\; Judge\, Court of Criminal Appeals Place 8\; and Commissioner of the General Land Office have confirmed their participation. All Republican candidates running for elected office in Bastrop County from the county level and up have been invited. This is not a debate. Each candidate will give an opening statement after which\, questions from the audience will be posed by a moderator from questions on index cards submitted by audience members. A meet &amp\; greet will follow.
LOCATION:First National Bank ~ Bastrop 489 Texas 71 West Bastrop\, TX 78602
UID:e.2762.5483
SEQUENCE:3
DTSTAMP:20260423T180019Z
URL:https://business.smithvilletx.org/events/details/candidate-forum-lost-pines-republican-women-5483
END:VEVENT

END:VCALENDAR
