BEGIN:VCALENDAR
VERSION:2.0
PRODID:-//ChamberMaster//Event Calendar 2.0//EN
METHOD:PUBLISH
X-PUBLISHED-TTL:P3D
REFRESH-INTERVAL:P3D
CALSCALE:GREGORIAN
BEGIN:VEVENT
DTSTART:20200816T190000Z
DTEND:20200816T210000Z
X-MICROSOFT-CDO-ALLDAYEVENT:FALSE
SUMMARY:Bunco Game
DESCRIPTION:Ladies Bunco Game. New players always welcome.
X-ALT-DESC;FMTTYPE=text/html:Ladies Bunco Game. New players always welcome.&nbsp\;
LOCATION:Mary Nichols Art Center 301 Burleson - Smithville
UID:e.2762.3851
SEQUENCE:3
DTSTAMP:20260423T112403Z
URL:https://business.smithvilletx.org/events/details/bunco-game-08-16-2020-3851
END:VEVENT

END:VCALENDAR
