BEGIN:VCALENDAR
VERSION:2.0
PRODID:-//ChamberMaster//Event Calendar 2.0//EN
METHOD:PUBLISH
X-PUBLISHED-TTL:P3D
REFRESH-INTERVAL:P3D
CALSCALE:GREGORIAN
BEGIN:VEVENT
DTSTART:20250518T190000Z
DTEND:20250518T210000Z
X-MICROSOFT-CDO-ALLDAYEVENT:FALSE
SUMMARY:Bunco Game
DESCRIPTION:Ladies Bunco Game. New players always welcome.
X-ALT-DESC;FMTTYPE=text/html:Ladies Bunco Game. New players always welcome.&nbsp\;
LOCATION:Mary Nichols Art Center 301 Burleson - Smithville
UID:e.2762.3908
SEQUENCE:3
DTSTAMP:20260422T062446Z
URL:https://business.smithvilletx.org/events/details/bunco-game-05-18-2025-3908
END:VEVENT

END:VCALENDAR
