BEGIN:VCALENDAR
VERSION:2.0
PRODID:-//ChamberMaster//Event Calendar 2.0//EN
METHOD:PUBLISH
X-PUBLISHED-TTL:P3D
REFRESH-INTERVAL:P3D
CALSCALE:GREGORIAN
BEGIN:VEVENT
DTSTART:20170930T133000Z
DTEND:20170930T170000Z
X-MICROSOFT-CDO-ALLDAYEVENT:FALSE
SUMMARY:Bastrop-Fayette Co Alzheimer's Texas Walk
DESCRIPTION:Walk with us and 100% of the funds raised stay local! Come to Smithville Gym for registration at 8:30 am\, Opening Ceremony at 9:00 am and Walk at 9:30 am. Pre-register at www.txalz.org/walk. Need help? Call (512) 241-0420 x12.
X-ALT-DESC;FMTTYPE=text/html:Walk with us and 100% of the funds raised stay local! Come to Smithville Gym for registration at 8:30 am\, Opening Ceremony at 9:00 am and Walk at 9:30 am. Pre-register at www.txalz.org/walk. Need help? Call (512) 241-0420 x12.
LOCATION:Smithville Gym\, 106 Gazley St\, Smithville\, TX 78957
UID:e.2762.4428
SEQUENCE:3
DTSTAMP:20260421T202940Z
URL:https://business.smithvilletx.org/events/details/bastrop-fayette-co-alzheimer-s-texas-walk-4428
END:VEVENT

END:VCALENDAR
